BEGIN:VCALENDAR
VERSION:2.0
PRODID:-//ChamberMaster//Event Calendar 2.0//EN
METHOD:PUBLISH
X-PUBLISHED-TTL:P3D
REFRESH-INTERVAL:P3D
CALSCALE:GREGORIAN
BEGIN:VEVENT
DTSTART:20230319T190000Z
DTEND:20230319T210000Z
X-MICROSOFT-CDO-ALLDAYEVENT:FALSE
SUMMARY:Zoomin Groomin Grand Opening
DESCRIPTION:Grand Opening of our 1st Mobile Pet Grooming franchise in Highlands Ranch! \n\nWe will be offering FREE nail trimming for dogs & cats and treats and for our human friends\, refreshments & finger food. \n\nWe will be doing our ribbon cutting to officially launch our new business. \n\nWe look forward to seeing you there\, and don't forget to bring your furry family members!\n\nPamela Ortiz
X-ALT-DESC;FMTTYPE=text/html:Grand Opening of our 1st Mobile Pet Grooming franchise in Highlands Ranch!&nbsp\;<br />\nWe will be offering FREE nail trimming for dogs &amp\; cats and treats and for our human friends\, refreshments &amp\; finger food.&nbsp\;<br />\nWe will be doing our ribbon cutting to officially launch our new business.&nbsp\;<br />\nWe look forward to seeing you there\, and don&#39\;t forget to bring your furry family members!<br />\nPamela Ortiz
LOCATION:Hound Hill Dog Park Parking Lot 9651 S. Quebec St Highlands Ranch CO 80130
UID:e.7785.21312
SEQUENCE:3
DTSTAMP:20260422T103855Z
URL:https://members.douglascountychamber.org/events/details/zoomin-groomin-grand-opening-21312
END:VEVENT

END:VCALENDAR
