BEGIN:VCALENDAR
VERSION:2.0
PRODID:-//ChamberMaster//Event Calendar 2.0//EN
METHOD:PUBLISH
X-PUBLISHED-TTL:P3D
REFRESH-INTERVAL:P3D
CALSCALE:GREGORIAN
BEGIN:VEVENT
DTSTART:20230518T203000Z
DTEND:20230518T213000Z
X-MICROSOFT-CDO-ALLDAYEVENT:FALSE
SUMMARY:Zell's Panini and Crepes Ribbon Cutting Celebration
DESCRIPTION:Zell's Panini & Crepes Centennial location will be celebrating its Grand Opening!  Zell's opened its first location in Highlands Ranch at 2229 W. Wildcat Reserve Parkway in July of 2022 and opened the Centennial location in February of 23.   \n\n \n\n The event will start at 2:30 p.m.\, RIBBON CUTTING AT 3PM\, and will feature music\, food and merchandise giveaways as well as demonstrations on how we make our crepes. A limited number of brave participants will be able to try their hand at making crepes.
X-ALT-DESC;FMTTYPE=text/html:<div style="text-align: center\;"><span style="font-size: 15px\;">Zell&rsquo\;s Panini &amp\; Crepes Centennial location will be celebrating its Grand Opening! &nbsp\;Zell&rsquo\;s opened its first location in Highlands Ranch at 2229 W. Wildcat Reserve Parkway in July of 2022 and opened the Centennial location in February of 23.&nbsp\;&nbsp\;&nbsp\;</span></div>\n\n<div style="text-align: center\;">&nbsp\;</div>\n\n<div style="text-align: center\;"><span style="font-size: 15px\;">&#65279\;The event will start at 2:30 p.m.\, RIBBON CUTTING AT 3PM\,&nbsp\;and will feature music\, food and merchandise giveaways as well as demonstrations on how we make our crepes.&nbsp\;A limited number of brave participants will be able to try their hand at making crepes.&nbsp\;</span></div>\n\n<div>&nbsp\;</div>\n<br />\n<br />\n&nbsp\;
LOCATION:Cherrywood Square Shopping Center near Arapahoe High School
UID:e.7785.21337
SEQUENCE:3
DTSTAMP:20260422T071952Z
URL:https://members.douglascountychamber.org/events/details/zell-s-panini-and-crepes-ribbon-cutting-celebration-21337
END:VEVENT

END:VCALENDAR
