BEGIN:VCALENDAR
VERSION:2.0
PRODID:-//ChamberMaster//Event Calendar 2.0//EN
METHOD:PUBLISH
X-PUBLISHED-TTL:P3D
REFRESH-INTERVAL:P3D
CALSCALE:GREGORIAN
BEGIN:VEVENT
DTSTART:20220729T000000Z
DTEND:20220729T020000Z
X-MICROSOFT-CDO-ALLDAYEVENT:FALSE
SUMMARY:You Had Me at Charcuterie
DESCRIPTION:Have you ever wondered how they make those boards look so beautiful? Or even what items to buy to pair flavors together? I'll walk you through step by step on just how to do it. You'll learn how to put the perfect board together and pair flavors to impress your guests at your next event. Best of all\, you get to savor all the flavor during class. You will leave class with your own creation\, a happy tummy and fun ideas for your next event. Pre-registration is required.
X-ALT-DESC;FMTTYPE=text/html:<span style="color:rgb(94\, 94\, 94)\; font-family:poppins\,arial\,sans-serif\; font-size:18px">Have you ever wondered how they make those boards look so beautiful? Or even what items to buy to pair flavors together? I&#39\;ll walk you through step by step on just how to do it. You&#39\;ll learn how to put the perfect board together and pair flavors to impress your guests at your next event. Best of all\, you get to savor all the flavor during class. You will leave class with your own creation\, a happy tummy and fun ideas for your next event. Pre-registration is required.</span>
LOCATION:KiKi PooPoo 5789 S Curtice St Unit C Littleton\, CO 80120
UID:e.7785.20933
SEQUENCE:3
DTSTAMP:20260422T222759Z
URL:https://members.douglascountychamber.org/events/details/you-had-me-at-charcuterie-07-28-2022-20933
END:VEVENT

END:VCALENDAR
