BEGIN:VCALENDAR
VERSION:2.0
PRODID:-//ChamberMaster//Event Calendar 2.0//EN
METHOD:PUBLISH
X-PUBLISHED-TTL:P3D
REFRESH-INTERVAL:P3D
CALSCALE:GREGORIAN
BEGIN:VEVENT
DTSTART:20220723T180000Z
DTEND:20220723T200000Z
X-MICROSOFT-CDO-ALLDAYEVENT:FALSE
SUMMARY:Workout & Wellness with Movement Counseling
DESCRIPTION:Coach Sierra with Movement Counseling and Wellness has offered to host a WORKOUT AND WELLNESS event in our studio.\n\n-\n\nMark your calendars for Saturday\, July 23rd at 12pm. Come in and take a session with Coach in our studio followed by refreshments\, conversation\, connection\, nutrition and group discussion on Mental Health. We believe that health and fitness is about treating the whole body and this event is a perfect way to do that.\n\n-\n\nFollow this link: https://bit.ly/WorkoutWellnessETF\n\nto reserve your spot or you can call or text us at the studio at 303-729-3704.\n\n-\n\nThis event is free and open to the public so invite your family and friends as well
X-ALT-DESC;FMTTYPE=text/html:<div>Coach Sierra with Movement Counseling and Wellness has offered to host a WORKOUT AND WELLNESS event in our studio.</div>\n\n<div>-</div>\n\n<div>Mark your calendars for Saturday\, July 23rd at 12pm. Come in and take a session with Coach in our studio followed by refreshments\, conversation\, connection\, nutrition and group discussion on Mental Health. We believe that health and fitness is about treating the whole body and this event is a perfect way to do that.</div>\n\n<div>-</div>\n\n<div>Follow this link: <span style="font-family:inherit"><a class="oajrlxb2 g5ia77u1 qu0x051f esr5mh6w e9989ue4 r7d6kgcz rq0escxv nhd2j8a9 nc684nl6 p7hjln8o kvgmc6g5 cxmmr5t8 oygrvhab hcukyx3x jb3vyjys rz4wbd8a qt6c0cv9 a8nywdso i1ao9s8h esuyzwwr f1sip0of lzcic4wl gpro0wi8 py34i1dx" href="https://l.facebook.com/l.php?u=https%3A%2F%2Fbit.ly%2FWorkoutWellnessETF%3Ffbclid%3DIwAR3Hc7sA-b8gBoov8vEtydfkAG_EKuVGQjuwcsaQOyckL18vHH25Ey7OoVc&amp\;h=AT1dhAjXTOyAEmS4wtyFv5bHATXh5Gqsca4AiWXLffRs7GuH7vURGD8iMdR0fp8V0rnvDefpIojYsFixceXPAS340VzNOF8mZoINshb9sLQAC4LISG78mb_-XQudeYRONZdNqz_4rlXqipVzWv0Yb4M&amp\;__tn__=-UK-R&amp\;c[0]=AT0RmE0aJnPaKiPna62N5RuQX3JIPQqXn_dR3hSxPwLAUQ1zBZVVpej6J-VQkYcfT14DXZHhSn4iSPUdBcELDeMoUV8wPYqPjKZhLRVdluTBDqFVGcT9v_yUmjfNa93JqDy99U9HEB0hllNxv0m-yvRuw5qYor0UFsTIX43j17uHdk00vbIaaCtSa95miYuC7Spxq4WtSnCgGmKiTqYwfGfLRYsFSLpc" rel="nofollow noopener" style="color: var(--blue-link)\; cursor: pointer\; text-decoration: none\; outline: none\; list-style: none\; border: 0px\; padding: 0px\; margin: 0px\; touch-action: manipulation\; text-align: inherit\; display: inline\; box-sizing: border-box\; font-family: inherit\;" tabindex="0" target="_blank">https://bit.ly/WorkoutWellnessETF</a></span></div>\n\n<div>to reserve your spot or you can call or text us at the studio at 303-729-3704.</div>\n\n<div>-</div>\n\n<div>This event is free and open to the public so invite your family and friends as well</div>\n
LOCATION:Eat the Frog Fitness 9265 S Broadway #100 Highlands Ranch CO 80129
UID:e.7785.20926
SEQUENCE:3
DTSTAMP:20260422T222545Z
URL:https://members.douglascountychamber.org/events/details/workout-wellness-with-movement-counseling-20926
END:VEVENT

END:VCALENDAR
