BEGIN:VCALENDAR
VERSION:2.0
PRODID:-//ChamberMaster//Event Calendar 2.0//EN
METHOD:PUBLISH
X-PUBLISHED-TTL:P3D
REFRESH-INTERVAL:P3D
CALSCALE:GREGORIAN
BEGIN:VEVENT
DTSTART:20240806T220000Z
DTEND:20240807T000000Z
X-MICROSOFT-CDO-ALLDAYEVENT:FALSE
SUMMARY:Womens Business Alliance - Business After Hours
DESCRIPTION:Please join us for an evening of Arts & Apps at Seven Stones for the Women's Business Alliance Business After Hours
X-ALT-DESC;FMTTYPE=text/html:Please join us for an evening of Arts &amp\; Apps at Seven Stones for the Women&#39\;s Business Alliance Business After Hours
LOCATION:9635 N. Rampart Range Road\, Littleton\, CO 80125
UID:e.7785.21535
SEQUENCE:3
DTSTAMP:20260421T074552Z
URL:https://members.douglascountychamber.org/events/details/womens-business-alliance-business-after-hours-21535
END:VEVENT

END:VCALENDAR
