BEGIN:VCALENDAR
VERSION:2.0
PRODID:-//ChamberMaster//Event Calendar 2.0//EN
METHOD:PUBLISH
X-PUBLISHED-TTL:P3D
REFRESH-INTERVAL:P3D
CALSCALE:GREGORIAN
BEGIN:VEVENT
DTSTART:20241025T170000Z
DTEND:20241025T193000Z
X-MICROSOFT-CDO-ALLDAYEVENT:FALSE
SUMMARY:Women Who Soar 2024
DESCRIPTION:The Douglas County EDC is honored to recognize Women Who Soar in our community. This event is being coordinated by the Women's Business Alliance (WBA)  which is a program of our organization.\n\n\n\nThe women who were selected to be honored inspire us to be better leaders and are blazing the path for future generations. They have made a difference to us in our community and have positively impacted the lives of others.
X-ALT-DESC;FMTTYPE=text/html:<span style="box-sizing: border-box\; font-family: verdana\; font-size: 16px\; background-color: rgb(243\, 243\, 243)\; color: rgb(0\, 0\, 0)\;">The Douglas County EDC is honored to recognize Women Who Soar in our community. This event is being coordinated by the Women&#39\;s Business Alliance (WBA)&nbsp\; which is a program of our organization.</span><br style="box-sizing: border-box\; color: rgb(83\, 86\, 90)\; font-family: verdana\; font-size: 16px\; background-color: rgb(243\, 243\, 243)\;" />\n<br style="box-sizing: border-box\; color: rgb(83\, 86\, 90)\; font-family: verdana\; font-size: 16px\; background-color: rgb(243\, 243\, 243)\;" />\n<span style="box-sizing: border-box\; font-family: verdana\; font-size: 16px\; background-color: rgb(243\, 243\, 243)\; color: rgb(29\, 33\, 41)\;">The women who were selected to be honored inspire us to be better leaders and are blazing the path for future generations. They have made a difference to us in our community and have positively impacted the lives of others.</span><br />\n<br />\n&nbsp\;
LOCATION:DCSD Legacy Campus - 10035 S Peoria St\, Lone Tree\, CO 80134
UID:e.7785.21546
SEQUENCE:3
DTSTAMP:20260421T032953Z
URL:https://members.douglascountychamber.org/events/details/women-who-soar-2024-21546
END:VEVENT

END:VCALENDAR
