BEGIN:VCALENDAR
VERSION:2.0
PRODID:-//ChamberMaster//Event Calendar 2.0//EN
METHOD:PUBLISH
X-PUBLISHED-TTL:P3D
REFRESH-INTERVAL:P3D
CALSCALE:GREGORIAN
BEGIN:VEVENT
DTSTART:20241006T170000Z
DTEND:20241006T190000Z
X-MICROSOFT-CDO-ALLDAYEVENT:FALSE
SUMMARY:Women's Day Fundraising Event
DESCRIPTION:Join us for a day of Friendship & Fundraising. When we come together in friendship and celebration one another and ourselves\, we build a stronger community and gather resources that can help prevent and overcome domestic abuse.
X-ALT-DESC;FMTTYPE=text/html:Join us for a day of Friendship &amp\; Fundraising. When we come together in friendship and celebration one another and ourselves\, we build a stronger community and gather resources that can help prevent and overcome domestic abuse.&nbsp\;
LOCATION:Olive Juice Beauty Bar 3624 E. Highlands Ranch PKWY#201 Highlands Ranch\, CO 80126
UID:e.7785.21561
SEQUENCE:3
DTSTAMP:20260421T032009Z
URL:https://members.douglascountychamber.org/events/details/women-s-day-fundraising-event-21561
END:VEVENT

END:VCALENDAR
