BEGIN:VCALENDAR
VERSION:2.0
PRODID:-//ChamberMaster//Event Calendar 2.0//EN
METHOD:PUBLISH
X-PUBLISHED-TTL:P3D
REFRESH-INTERVAL:P3D
CALSCALE:GREGORIAN
BEGIN:VEVENT
DTSTART:20230502T220000Z
DTEND:20230503T000000Z
X-MICROSOFT-CDO-ALLDAYEVENT:FALSE
SUMMARY:Women's Business Alliance - May 2023
DESCRIPTION:Women's Business Alliance\n\nMay 2023\n\n \n\nCome visit two amazing businesses located a few doors down from each other in Cherrywood Square!  BARE Blends specializes in Bowls\, Smoothies and Juices- a plant based and gluten free establishment.  We will learn about their healthy offerings\, their juice cleanse and more!  We will then head to Blo Blow Dry Bar\, the world's leading blow dry bar franchise!  Blo's mission is to uplift and enhance the lives of those in our community through the power of beauty.  Come see their beautiful salon while we enjoy light bites and bubbly!  \n\n \n\n \n\n\n *This event is full of fun\, food\, and Networking with other women business leaders!\n\n\n\nThe Women's Business Alliance is the women's network within the Chamber & EDC. This group works to connect and empower women through\n\n\n\n	Building meaningful relationships\n	Providing connections and resources for business growth\n	Offering an inclusive and welcoming environment\n	Lending personal and professional support\n\n\nFeel free to bring a door prize from your company to share!
X-ALT-DESC;FMTTYPE=text/html:<div font-size:="" new="" style="color: rgb(0\, 0\, 0)\;" times="">\n<div style="font-size: 11pt\;">\n<div style="text-align: center\;"><span style="font-size:16px\;"><strong><span style="font-size:24px\;">Women&#39\;s Business Alliance<br />\nMay 2023</span></strong></span></div>\n\n<div style="text-align: center\;">&nbsp\;</div>\n\n<div><span style="font-size:16px\;">Come visit two amazing businesses located a few doors down from each other in Cherrywood Square!&nbsp\; BARE Blends specializes in Bowls\, Smoothies and Juices- a plant based and gluten free establishment.&nbsp\; We will learn about their healthy offerings\, their juice cleanse and more!&nbsp\; We will then head to Blo Blow Dry Bar\, the world&#39\;s leading blow dry bar franchise!&nbsp\; Blo&#39\;s mission is to uplift and enhance the lives of those in our community through the power of beauty.&nbsp\; Come see their beautiful salon while we enjoy light bites and bubbly!&nbsp\;&nbsp\;</span></div>\n\n<div style="text-align: center\;">&nbsp\;</div>\n\n<div><span style="font-size:16px\;"><span style="font-family: verdana\;">&nbsp\;</span></span></div>\n<br />\n<span style="font-size:16px\;"><span style="font-family:verdana\;">&nbsp\;*This event is full of fun\, food\, and Networking with other women business leaders!<br />\n<br />\nThe Women&#39\;s Business Alliance is&nbsp\;the women&#39\;s network&nbsp\;within the Chamber &amp\; EDC. This group&nbsp\;works to connect&nbsp\;and empower women through</span></span></div>\n</div>\n\n<ul>\n	<li font-size:="" new="" style="color: rgb(0\, 0\, 0)\;" times=""><span style="font-size:16px\;"><span style="font-family:verdana\;">Building meaningful relationships</span></span></li>\n	<li font-size:="" new="" style="color: rgb(0\, 0\, 0)\;" times=""><span style="font-size:16px\;"><span style="font-family:verdana\;">Providing connections and resources for business growth</span></span></li>\n	<li font-size:="" new="" style="color: rgb(0\, 0\, 0)\;" times=""><span style="font-size:16px\;"><span style="font-family:verdana\;">Offering an inclusive and welcoming environment</span></span></li>\n	<li font-size:="" new="" style="color: rgb(0\, 0\, 0)\;" times=""><span style="font-size:16px\;"><span style="font-family:verdana\;">Lending personal and professional support</span></span></li>\n</ul>\n\n<div style="color: rgb(0\, 0\, 0)\;"><span style="font-size:16px\;"><span style="font-family:verdana\;">Feel free to bring a door prize from your company to share!</span></span><br />\n<br />\n&nbsp\;</div>\n
LOCATION:Backpack Society is looking for the following donations- please bring what you have: Canned vegetables Small cans of soup Chef Boyardee ravioli or Spaghetti O's Fruit cups/ apple sauce cups Canned Beans Pasta Pasta Sauce
UID:e.7785.21331
SEQUENCE:3
DTSTAMP:20260422T071937Z
URL:https://members.douglascountychamber.org/events/details/women-s-business-alliance-may-2023-21331
END:VEVENT

END:VCALENDAR
