BEGIN:VCALENDAR
VERSION:2.0
PRODID:-//ChamberMaster//Event Calendar 2.0//EN
METHOD:PUBLISH
X-PUBLISHED-TTL:P3D
REFRESH-INTERVAL:P3D
CALSCALE:GREGORIAN
BEGIN:VEVENT
DTSTART:20230307T230000Z
DTEND:20230308T010000Z
X-MICROSOFT-CDO-ALLDAYEVENT:FALSE
SUMMARY:Women's Business Alliance - March 2023
DESCRIPTION:Women's Business Alliance\n\nMarch 2023\n\n \n\nCome see the beautiful Village Workspace\, a beautiful workspace for your WHOLE self\, operated by Gina Schreck.  She will be showing us their newly constructed space as well as serving signature cocktails and mocktails to compliment Connie Lamb's Bringing The Bites delights!  \n\n \n\n \n\n\n *This event is full of fun\, food\, and Networking with other women business leaders!\n\n\n\nThe Women's Business Alliance is the women's network within the Chamber & EDC. This group works to connect and empower women through\n\n\n\n	Building meaningful relationships\n	Providing connections and resources for business growth\n	Offering an inclusive and welcoming environment\n	Lending personal and professional support\n\n\nFeel free to bring a door prize from your company to share!
X-ALT-DESC;FMTTYPE=text/html:<div font-size:="" new="" style="color: rgb(0\, 0\, 0)\;" times="">\n<div style="font-size: 11pt\;">\n<div style="text-align: center\;"><span style="font-size:16px\;"><strong><span style="font-size:24px\;">Women&#39\;s Business Alliance<br />\nMarch&nbsp\;2023</span></strong></span></div>\n\n<div style="text-align: center\;">&nbsp\;</div>\n\n<div><span style="font-size:16px\;">Come see the beautiful Village Workspace\, a beautiful workspace for your WHOLE self\, operated by Gina Schreck.&nbsp\; She will be showing us their newly constructed space as well as serving signature cocktails and mocktails to compliment Connie Lamb&#39\;s Bringing The Bites delights!&nbsp\;&nbsp\;</span></div>\n\n<div style="text-align: center\;">&nbsp\;</div>\n\n<div><span style="font-size:16px\;"><span style="font-family: verdana\;">&nbsp\;</span></span></div>\n<br />\n<span style="font-size:16px\;"><span style="font-family:verdana\;">&nbsp\;*This event is full of fun\, food\, and Networking with other women business leaders!<br />\n<br />\nThe Women&#39\;s Business Alliance is&nbsp\;the women&#39\;s network&nbsp\;within the Chamber &amp\; EDC. This group&nbsp\;works to connect&nbsp\;and empower women through</span></span></div>\n</div>\n\n<ul>\n	<li font-size:="" new="" style="color: rgb(0\, 0\, 0)\;" times=""><span style="font-size:16px\;"><span style="font-family:verdana\;">Building meaningful relationships</span></span></li>\n	<li font-size:="" new="" style="color: rgb(0\, 0\, 0)\;" times=""><span style="font-size:16px\;"><span style="font-family:verdana\;">Providing connections and resources for business growth</span></span></li>\n	<li font-size:="" new="" style="color: rgb(0\, 0\, 0)\;" times=""><span style="font-size:16px\;"><span style="font-family:verdana\;">Offering an inclusive and welcoming environment</span></span></li>\n	<li font-size:="" new="" style="color: rgb(0\, 0\, 0)\;" times=""><span style="font-size:16px\;"><span style="font-family:verdana\;">Lending personal and professional support</span></span></li>\n</ul>\n\n<div style="color: rgb(0\, 0\, 0)\;"><span style="font-size:16px\;"><span style="font-family:verdana\;">Feel free to bring a door prize from your company to share!</span></span><br />\n<br />\n&nbsp\;</div>\n
LOCATION:Village Workspace with light bites by Connie Lamb of Bringing the Bites and Tamera Porter\, Mixologist with The Cocktail Classroom. Backpack Society is looking for the following donations- please bring what you have: -Peanut Butter -Jars of Jelly -Pasta Sauce -Family size box of Crackers (Ritz\, saltines etc.) -Canned Tuna
UID:e.7785.21282
SEQUENCE:3
DTSTAMP:20260422T104041Z
URL:https://members.douglascountychamber.org/events/details/women-s-business-alliance-march-2023-21282
END:VEVENT

END:VCALENDAR
