BEGIN:VCALENDAR
VERSION:2.0
PRODID:-//ChamberMaster//Event Calendar 2.0//EN
METHOD:PUBLISH
X-PUBLISHED-TTL:P3D
REFRESH-INTERVAL:P3D
CALSCALE:GREGORIAN
BEGIN:VEVENT
DTSTART:20230606T220000Z
DTEND:20230607T000000Z
X-MICROSOFT-CDO-ALLDAYEVENT:FALSE
SUMMARY:Women's Business Alliance - June 2023
DESCRIPTION:Women's Business Alliance\n\nJune 2023\n\n \n\nThis month\, sweetgreen restaurant in Highlands Ranch will be hosting us on their patio with light bites and drinks.  We will hear about this amazing restaurant's mission from sweetgreen staff.  Susan Tillman with Sunglo will also be there to share about her company and their greenhouses.  This month's WBA is all about delicious healthy\, plant based\, sustainable food!  \n\n\nThe Women's Business Alliance is the women's network within the Chamber & EDC. This group works to connect and empower women through\n\n\n\n	Building meaningful relationships\n	Providing connections and resources for business growth\n	Offering an inclusive and welcoming environment\n	Lending personal and professional support\n\n\nFeel free to bring a door prize from your company to share!
X-ALT-DESC;FMTTYPE=text/html:<div font-size:="" new="" style="color: rgb(0\, 0\, 0)\;" times="">\n<div style="font-size: 11pt\;">\n<div style="text-align: center\;"><span style="font-size:16px\;"><strong><span style="font-size:24px\;">Women&#39\;s Business Alliance<br />\nJune&nbsp\;2023</span></strong></span></div>\n\n<div style="text-align: center\;">&nbsp\;</div>\n\n<div><span style="font-size:16px\;">This month\, sweetgreen restaurant in Highlands Ranch will be hosting us on their patio with light bites and drinks.&nbsp\; We will hear about this amazing restaurant&#39\;s mission from sweetgreen staff.&nbsp\; Susan Tillman with Sunglo will also be there to share about her company and their greenhouses.&nbsp\; This month&#39\;s WBA is all about delicious healthy\, plant based\, sustainable food!&nbsp\;&nbsp\;</span></div>\n<br />\n<span style="font-size:16px\;"><span style="font-family:verdana\;">The Women&#39\;s Business Alliance is&nbsp\;the women&#39\;s network&nbsp\;within the Chamber &amp\; EDC. This group&nbsp\;works to connect&nbsp\;and empower women through</span></span></div>\n</div>\n\n<ul>\n	<li font-size:="" new="" style="color: rgb(0\, 0\, 0)\;" times=""><span style="font-size:16px\;"><span style="font-family:verdana\;">Building meaningful relationships</span></span></li>\n	<li font-size:="" new="" style="color: rgb(0\, 0\, 0)\;" times=""><span style="font-size:16px\;"><span style="font-family:verdana\;">Providing connections and resources for business growth</span></span></li>\n	<li font-size:="" new="" style="color: rgb(0\, 0\, 0)\;" times=""><span style="font-size:16px\;"><span style="font-family:verdana\;">Offering an inclusive and welcoming environment</span></span></li>\n	<li font-size:="" new="" style="color: rgb(0\, 0\, 0)\;" times=""><span style="font-size:16px\;"><span style="font-family:verdana\;">Lending personal and professional support</span></span></li>\n</ul>\n\n<div style="color: rgb(0\, 0\, 0)\;"><span style="font-size:16px\;"><span style="font-family:verdana\;">Feel free to bring a door prize from your company to share!</span></span><br />\n<br />\n&nbsp\;</div>\n
LOCATION:Backpack Society is looking for the following donations- please bring what you have: Canned vegetables Small cans of soup Chef Boyardee ravioli or Spaghetti O's Fruit cups/ apple sauce cups Canned Beans Pasta Pasta Sauce
UID:e.7785.21348
SEQUENCE:3
DTSTAMP:20260422T073718Z
URL:https://members.douglascountychamber.org/events/details/women-s-business-alliance-june-2023-21348
END:VEVENT

END:VCALENDAR
