BEGIN:VCALENDAR
VERSION:2.0
PRODID:-//ChamberMaster//Event Calendar 2.0//EN
METHOD:PUBLISH
X-PUBLISHED-TTL:P3D
REFRESH-INTERVAL:P3D
CALSCALE:GREGORIAN
BEGIN:VEVENT
DTSTART:20240402T220000Z
DTEND:20240403T000000Z
X-MICROSOFT-CDO-ALLDAYEVENT:FALSE
SUMMARY:Women's Business Alliance - Business After Hours: Backpack Society
DESCRIPTION:Join Backpack Society for a fun evening of snacks and drinks to learn about Backpack Society and see their new expanded space!
X-ALT-DESC;FMTTYPE=text/html:Join Backpack Society for a fun evening of snacks and drinks to learn about Backpack Society and see their new expanded space!&nbsp\;
LOCATION:213 W. County Line Rd Highlands Ranch\, CO 80129
UID:e.7785.21443
SEQUENCE:3
DTSTAMP:20260421T165724Z
URL:https://members.douglascountychamber.org/events/details/women-s-business-alliance-business-after-hours-backpack-society-21443
END:VEVENT

END:VCALENDAR
