BEGIN:VCALENDAR
VERSION:2.0
PRODID:-//ChamberMaster//Event Calendar 2.0//EN
METHOD:PUBLISH
X-PUBLISHED-TTL:P3D
REFRESH-INTERVAL:P3D
CALSCALE:GREGORIAN
BEGIN:VEVENT
DTSTART:20221206T230000Z
DTEND:20221207T010000Z
X-MICROSOFT-CDO-ALLDAYEVENT:FALSE
SUMMARY:Women's Business Alliance - August 2022
DESCRIPTION:Women's Business Alliance\n\nDecember 2022\n\n \nJoin Patricia Jenkins and team for an afternoon as we drink\, eat\, create our own Christmas ornament\, and business networking with amazing women business leaders.\n\n\n\n\n\n *This event if full of fun\, food\, and Networking with other women business leaders!\n\n\n\nThe Women's Business Alliance is the women's network within the Chamber & EDC. This group works to connect and empower women through\n\n\n\n	Building meaningful relationships\n	Providing connections and resources for business growth\n	Offering an inclusive and welcoming environment\n	Lending personal and professional support\n\n\nFeel free to bring a door prize from your company to share!
X-ALT-DESC;FMTTYPE=text/html:<div font-size:="" new="" style="color: rgb(0\, 0\, 0)\;" times="">\n<div style="font-size: 11pt\;">\n<div style="text-align: center\;"><span style="font-size:16px\;"><strong><span style="font-size:24px\;">Women&#39\;s Business Alliance<br />\nDecember 2022</span></strong></span><br />\n&nbsp\;</div>\nJoin Patricia Jenkins and team for an afternoon as we drink\, eat\, create our own Christmas ornament\, and business networking with amazing women business leaders.<br />\n<br />\n<br />\n&nbsp\;<span style="font-family: arial\; font-size: 11pt\;">*This event if full of fun\, food\, and Networking with other women business leaders!</span><br />\n<br />\n<span style="font-family: arial\;">The Women&#39\;s Business Alliance is&nbsp\;the women&#39\;s network&nbsp\;within the Chamber &amp\; EDC. This group&nbsp\;works to connect&nbsp\;and empower women through</span></div>\n</div>\n\n<ul>\n	<li font-size:="" new="" style="color: rgb(0\, 0\, 0)\;" times=""><span style="font-size:14px\;"><font face="arial">Building meaningful relationships</font></span></li>\n	<li font-size:="" new="" style="color: rgb(0\, 0\, 0)\;" times=""><span style="font-size:14px\;"><font face="arial">Providing connections and resources for business growth</font></span></li>\n	<li font-size:="" new="" style="color: rgb(0\, 0\, 0)\;" times=""><span style="font-size:14px\;"><font face="arial">Offering an inclusive and welcoming environment</font></span></li>\n	<li font-size:="" new="" style="color: rgb(0\, 0\, 0)\;" times=""><span style="font-size:14px\;"><font face="arial">Lending personal and professional support</font></span></li>\n</ul>\n\n<div style="color: rgb(0\, 0\, 0)\;"><span style="font-size:14px\;"><font face="arial">Feel free to bring a door prize from your company to share!</font></span><br />\n<br />\n&nbsp\;</div>\n
LOCATION:Roxborough Arts Gallery
UID:e.7785.21258
SEQUENCE:3
DTSTAMP:20260422T150115Z
URL:https://members.douglascountychamber.org/events/details/women-s-business-alliance-august-2022-21258
END:VEVENT

END:VCALENDAR
