BEGIN:VCALENDAR
VERSION:2.0
PRODID:-//ChamberMaster//Event Calendar 2.0//EN
METHOD:PUBLISH
X-PUBLISHED-TTL:P3D
REFRESH-INTERVAL:P3D
CALSCALE:GREGORIAN
BEGIN:VEVENT
DTSTART:20230404T143000Z
DTEND:20230404T160000Z
X-MICROSOFT-CDO-ALLDAYEVENT:FALSE
SUMMARY:Women's Business Alliance - April 2023
DESCRIPTION:Women's Business Alliance\n\nApril 2023\n\n \n\nJoin the Women's Business Alliance for our April morning event featuring  Transformation and Life Coach\, Teri Karjala.  Teri will be teaching us\, The N.O.W. Model \; 3 Strategies to Reset Your Mindset and Transform Your Tomorrow\, Today!  \n\n  \n\nEver wondered why\; We shy away from taking that next bold business step?   \n\nEver wondered why\; We sometimes hesitate to contribute our creativity to the fullest?  \n\nEver wondered why\; We feel stuck in our own thinking?   \n\nWell\, you're not alone. We get stuck because we simply don't have the tools we need to think and act more expansively.   \n\nThe N.O.W. Model  is a tool designed to help you transform your thinking and expand what you define as possible.  \n\n \n\n\nBackpack Society is looking for the following donations- please bring what you have:  \n\n-Peanut Butter\n\n-Jars of Jelly\n\n-Pasta Sauce\n\n-Family size box of Crackers (Ritz\, saltines etc.)\n\n-Canned Tuna\n\n\n\n *This event is full of fun\, food\, and Networking with other women business leaders!\n\n\n\nThe Women's Business Alliance is the women's network within the Chamber & EDC. This group works to connect and empower women through\n\n\n\n	Building meaningful relationships\n	Providing connections and resources for business growth\n	Offering an inclusive and welcoming environment\n	Lending personal and professional support\n\n\nFeel free to bring a door prize from your company to share!
X-ALT-DESC;FMTTYPE=text/html:<div font-size:="" new="" style="color: rgb(0\, 0\, 0)\;" times="">\n<div style="font-size: 11pt\;">\n<div style="text-align: center\;"><span style="font-size:16px\;"><strong><span style="font-size:24px\;">Women&#39\;s Business Alliance<br />\nApril 2023</span></strong></span></div>\n\n<div style="text-align: center\;">&nbsp\;</div>\n\n<div><strong style="color: rgb(51\, 51\, 51)\; font-family: sans-serif\, Arial\, Verdana\, &quot\;Trebuchet MS&quot\;\; font-size: 13px\;"><em><span style="color: rgb(245\, 19\, 132)\;"><span style="font-family: &quot\;century gothic&quot\;\, sans-serif\;"><span style="font-size: 14pt\;">Join the Women&#39\;s Business Alliance for our April morning event featuring&nbsp\; Transformation and Life Coach\, Teri Karjala.&nbsp\; Teri will be teaching us\, The N.O.W. Model&trade\;\; 3 Strategies to Reset Your Mindset and Transform Your Tomorrow\, Today!</span></span></span></em></strong><span style="color: rgb(51\, 51\, 51)\; font-family: sans-serif\, Arial\, Verdana\, &quot\;Trebuchet MS&quot\;\; font-size: 13px\; background-color: rgb(255\, 255\, 255)\;">&nbsp\;&nbsp\;</span><br style="color: rgb(51\, 51\, 51)\; font-family: sans-serif\, Arial\, Verdana\, &quot\;Trebuchet MS&quot\;\; font-size: 13px\;" />\n<span style="color: rgb(51\, 51\, 51)\; font-family: sans-serif\, Arial\, Verdana\, &quot\;Trebuchet MS&quot\;\; font-size: 13px\; background-color: rgb(255\, 255\, 255)\;">&nbsp\;&nbsp\;</span><br style="color: rgb(51\, 51\, 51)\; font-family: sans-serif\, Arial\, Verdana\, &quot\;Trebuchet MS&quot\;\; font-size: 13px\;" />\n<span style="font-family: sans-serif\, Arial\, Verdana\, &quot\;Trebuchet MS&quot\;\; font-size: 13px\;"><span style="font-family: &quot\;century gothic&quot\;\, sans-serif\;"><span style="font-size: 12pt\;">Ever wondered why\;&nbsp\;<em>We shy away from taking that next bold business step?&nbsp\;</em>&nbsp\;</span></span></span><span style="color: rgb(51\, 51\, 51)\; font-family: sans-serif\, Arial\, Verdana\, &quot\;Trebuchet MS&quot\;\; font-size: 13px\; background-color: rgb(255\, 255\, 255)\;">&nbsp\;</span><br style="color: rgb(51\, 51\, 51)\; font-family: sans-serif\, Arial\, Verdana\, &quot\;Trebuchet MS&quot\;\; font-size: 13px\;" />\n<span style="font-family: sans-serif\, Arial\, Verdana\, &quot\;Trebuchet MS&quot\;\; font-size: 13px\;"><span style="font-family: &quot\;century gothic&quot\;\, sans-serif\;"><span style="font-size: 12pt\;">Ever wondered why\;&nbsp\;<em>We sometimes hesitate to contribute our creativity to the fullest?</em>&nbsp\;</span></span></span><span style="color: rgb(51\, 51\, 51)\; font-family: sans-serif\, Arial\, Verdana\, &quot\;Trebuchet MS&quot\;\; font-size: 13px\; background-color: rgb(255\, 255\, 255)\;">&nbsp\;</span><br style="color: rgb(51\, 51\, 51)\; font-family: sans-serif\, Arial\, Verdana\, &quot\;Trebuchet MS&quot\;\; font-size: 13px\;" />\n<span style="font-family: sans-serif\, Arial\, Verdana\, &quot\;Trebuchet MS&quot\;\; font-size: 13px\;"><span style="font-family: &quot\;century gothic&quot\;\, sans-serif\;"><span style="font-size: 12pt\;">Ever wondered why\;&nbsp\;<em>We feel stuck in our own thinking?</em>&nbsp\;&nbsp\;</span></span></span><span style="color: rgb(51\, 51\, 51)\; font-family: sans-serif\, Arial\, Verdana\, &quot\;Trebuchet MS&quot\;\; font-size: 13px\; background-color: rgb(255\, 255\, 255)\;">&nbsp\;</span><br style="color: rgb(51\, 51\, 51)\; font-family: sans-serif\, Arial\, Verdana\, &quot\;Trebuchet MS&quot\;\; font-size: 13px\;" />\n<span style="font-family: sans-serif\, Arial\, Verdana\, &quot\;Trebuchet MS&quot\;\; font-size: 13px\;"><span style="font-family: &quot\;century gothic&quot\;\, sans-serif\;"><span style="font-size: 12pt\;">Well\, you&rsquo\;re not alone. We get stuck because we simply don&rsquo\;t have the tools we need to think and act more expansively.&nbsp\;&nbsp\;</span></span></span><span style="color: rgb(51\, 51\, 51)\; font-family: sans-serif\, Arial\, Verdana\, &quot\;Trebuchet MS&quot\;\; font-size: 13px\; background-color: rgb(255\, 255\, 255)\;">&nbsp\;</span><br style="color: rgb(51\, 51\, 51)\; font-family: sans-serif\, Arial\, Verdana\, &quot\;Trebuchet MS&quot\;\; font-size: 13px\;" />\n<span style="font-family: sans-serif\, Arial\, Verdana\, &quot\;Trebuchet MS&quot\;\; font-size: 13px\;"><span style="font-family: &quot\;century gothic&quot\;\, sans-serif\;"><span style="font-size: 12pt\;">The N.O.W. Model&trade\; is a tool designed to help you transform your thinking and expand what you define as possible.&nbsp\;</span></span></span><span style="color: rgb(51\, 51\, 51)\; font-family: sans-serif\, Arial\, Verdana\, &quot\;Trebuchet MS&quot\;\; font-size: 13px\; background-color: rgb(255\, 255\, 255)\;">&nbsp\;</span><br style="color: rgb(51\, 51\, 51)\; font-family: sans-serif\, Arial\, Verdana\, &quot\;Trebuchet MS&quot\;\; font-size: 13px\;" />\n&nbsp\;\n<h3 style="font-weight: normal\; line-height: 2em\; background: rgb(255\, 255\, 255)\; box-sizing: border-box\; margin: 0px\; padding: 0px 0px 10px\; border: 0px\; outline: 0px\; font-size: 14px\; text-size-adjust: 100%\; vertical-align: baseline\; font-family: &quot\;PT Sans&quot\;\, Helvetica\, Arial\, Lucida\, sans-serif\; color: rgb(160\, 109\, 81) !important\;"><br />\n<span style="color: rgb(0\, 0\, 0)\;"><strong>Backpack Society is looking for the following donations- please bring what you have:&nbsp\;</strong>&nbsp\;<br />\n-Peanut Butter<br />\n-Jars of Jelly<br />\n-Pasta Sauce<br />\n-Family size box of Crackers (Ritz\, saltines etc.)<br />\n-Canned Tuna</span></h3>\n</div>\n<br />\n<span style="font-size:16px\;"><span style="font-family:verdana\;">&nbsp\;*This event is full of fun\, food\, and Networking with other women business leaders!<br />\n<br />\nThe Women&#39\;s Business Alliance is&nbsp\;the women&#39\;s network&nbsp\;within the Chamber &amp\; EDC. This group&nbsp\;works to connect&nbsp\;and empower women through</span></span></div>\n</div>\n\n<ul>\n	<li font-size:="" new="" style="color: rgb(0\, 0\, 0)\;" times=""><span style="font-size:16px\;"><span style="font-family:verdana\;">Building meaningful relationships</span></span></li>\n	<li font-size:="" new="" style="color: rgb(0\, 0\, 0)\;" times=""><span style="font-size:16px\;"><span style="font-family:verdana\;">Providing connections and resources for business growth</span></span></li>\n	<li font-size:="" new="" style="color: rgb(0\, 0\, 0)\;" times=""><span style="font-size:16px\;"><span style="font-family:verdana\;">Offering an inclusive and welcoming environment</span></span></li>\n	<li font-size:="" new="" style="color: rgb(0\, 0\, 0)\;" times=""><span style="font-size:16px\;"><span style="font-family:verdana\;">Lending personal and professional support</span></span></li>\n</ul>\n\n<div style="color: rgb(0\, 0\, 0)\;"><span style="font-size:16px\;"><span style="font-family:verdana\;">Feel free to bring a door prize from your company to share!</span></span><br />\n<br />\n&nbsp\;</div>\n
LOCATION:Courtyard by Marriott Denver Southwest/Littleton
UID:e.7785.21311
SEQUENCE:3
DTSTAMP:20260422T085224Z
URL:https://members.douglascountychamber.org/events/details/women-s-business-alliance-april-2023-21311
END:VEVENT

END:VCALENDAR
