BEGIN:VCALENDAR
VERSION:2.0
PRODID:-//ChamberMaster//Event Calendar 2.0//EN
METHOD:PUBLISH
X-PUBLISHED-TTL:P3D
REFRESH-INTERVAL:P3D
CALSCALE:GREGORIAN
BEGIN:VEVENT
DTSTART:20240507T220000Z
DTEND:20240508T000000Z
X-MICROSOFT-CDO-ALLDAYEVENT:FALSE
SUMMARY:Women's Business Alliance After Hours: Cultivate Your Courage Coaching
DESCRIPTION:Join NWDCCEDC Women's Business Alliance for Business After Hours at Elite Performance Center for member\, 'Cultivate Your Courage Coaching'.
X-ALT-DESC;FMTTYPE=text/html:Join NWDCCEDC Women&#39\;s Business Alliance for Business After Hours at Elite Performance Center for member\, &#39\;Cultivate Your Courage Coaching&#39\;.&nbsp\;<br />\n<br />\n&nbsp\;
LOCATION:6839 S Vine St. Centennial\, Colorado
UID:e.7785.21478
SEQUENCE:3
DTSTAMP:20260421T123730Z
URL:https://members.douglascountychamber.org/events/details/women-s-business-alliance-after-hours-cultivate-your-courage-coaching-21478
END:VEVENT

END:VCALENDAR
