BEGIN:VCALENDAR
VERSION:2.0
PRODID:-//ChamberMaster//Event Calendar 2.0//EN
METHOD:PUBLISH
X-PUBLISHED-TTL:P3D
REFRESH-INTERVAL:P3D
CALSCALE:GREGORIAN
BEGIN:VEVENT
DTSTART:20220801T233000Z
DTEND:20220802T013000Z
X-MICROSOFT-CDO-ALLDAYEVENT:FALSE
SUMMARY:What's in our beer?
DESCRIPTION:Centennial Water and Living the Dream Brewery are partnering to celebrate water quality awareness month! Join us for a fun-filled beer science and water quality educational event\, complete with free beer samples and snacks! Register now to secure your spot!\n\nEvent is free\, but pre-registration is required. Space is limited.\n\nRegister here: https://bit.ly/3oeiRJi
X-ALT-DESC;FMTTYPE=text/html:<div>Centennial Water and Living the Dream Brewery are partnering to celebrate water quality awareness month! Join us for a fun-filled beer science and water quality educational event\, complete with free beer samples and snacks! Register now to secure your spot!</div>\n\n<div>Event is free\, but pre-registration is required. Space is limited.</div>\n\n<div>Register here:&nbsp\;<a class="oajrlxb2 g5ia77u1 qu0x051f esr5mh6w e9989ue4 r7d6kgcz rq0escxv nhd2j8a9 nc684nl6 p7hjln8o kvgmc6g5 cxmmr5t8 oygrvhab hcukyx3x jb3vyjys rz4wbd8a qt6c0cv9 a8nywdso i1ao9s8h esuyzwwr f1sip0of lzcic4wl gpro0wi8 py34i1dx" href="https://bit.ly/3oeiRJi" rel="nofollow noopener" style="color: var(--blue-link)\; cursor: pointer\; text-decoration-line: none\; outline: none\; list-style: none\; border-width: 0px\; border-style: initial\; border-color: initial\; padding: 0px\; margin: 0px\; touch-action: manipulation\; background-color: transparent\; text-align: inherit\; display: inline\; -webkit-tap-highlight-color: transparent\; box-sizing: border-box\; font-family: inherit\;" tabindex="0" target="_blank">https://bit.ly/3oeiRJi</a></div>\n
LOCATION:Living the Dream Brewery 12305 N Dumont Way\, Littleton\, CO 80125
UID:e.7785.20993
SEQUENCE:3
DTSTAMP:20260422T222616Z
URL:https://members.douglascountychamber.org/events/details/what-s-in-our-beer-20993
END:VEVENT

END:VCALENDAR
