BEGIN:VCALENDAR
VERSION:2.0
PRODID:-//ChamberMaster//Event Calendar 2.0//EN
METHOD:PUBLISH
X-PUBLISHED-TTL:P3D
REFRESH-INTERVAL:P3D
CALSCALE:GREGORIAN
BEGIN:VEVENT
DTSTART:20230524T160000Z
DTEND:20230524T190000Z
X-MICROSOFT-CDO-ALLDAYEVENT:FALSE
SUMMARY:Wellness Wednesday with Navigate Health Chiropractic
DESCRIPTION:Join us for Wellness Wednesday at Hydrate IV Bar Highlands Ranch. Navigate Health Chiropractic will be there offering FREE CUPPING 10-1pm Hydrate has $99 Wellness IV ALL DAY on Wednesdays!
X-ALT-DESC;FMTTYPE=text/html:Join us for Wellness Wednesday at Hydrate IV Bar Highlands Ranch. Navigate Health Chiropractic will be there offering FREE CUPPING 10-1pm Hydrate has $99 Wellness IV ALL DAY on Wednesdays!
LOCATION:9245 S Broadway unit 600 Highlands Ranch CO 80129
UID:e.7785.21346
SEQUENCE:3
DTSTAMP:20260422T071810Z
URL:https://members.douglascountychamber.org/events/details/wellness-wednesday-with-navigate-health-chiropractic-21346
END:VEVENT

END:VCALENDAR
