BEGIN:VCALENDAR
VERSION:2.0
PRODID:-//ChamberMaster//Event Calendar 2.0//EN
METHOD:PUBLISH
X-PUBLISHED-TTL:P3D
REFRESH-INTERVAL:P3D
CALSCALE:GREGORIAN
BEGIN:VEVENT
DTSTART:20240521T190000Z
DTEND:20240521T203000Z
X-MICROSOFT-CDO-ALLDAYEVENT:FALSE
SUMMARY:Well Said: Start-to-Finish Talk Builder Workshop Series
DESCRIPTION:Develop the invaluable skills for giving high-impact speeches with clarity and confidence. This three-session virtual workshop will equip you with an end-to-end process for developing content\, designing slides\, and refining your delivery. Each 90-minute session includes instruction and time to work on your content. You'll leave the final session with working drafts of your message and deck and have a chance to practice and receive feedback from the coach.\n\n\n\nYou'll learn:\n\n	How to build compelling content\n	How to create strong visuals for your message\n	How to deliver your talk with confidence\n\n\n\n\nMay 21\, May 28\, June 4\n\n1:30pm-3:-00pm on Zoom\n\nCost: $895. $50 discount for chamber members using code CHAMBER50.\n\nRegister HERE.\n\n\n\nAdd-on bonus discount:\n\nSupplementary one-on-one coaching sessions available at a discounted rate. Additional $100 discount on supplementary coaching for the first five registrants using code TALKBUILDER.
X-ALT-DESC;FMTTYPE=text/html:<span style="color:rgb(109\, 139\, 154)">Develop the invaluable skills for giving high-impact speeches with clarity and confidence. This three-session virtual workshop will equip you with an end-to-end process for developing content\, designing slides\, and refining your delivery. Each 90-minute session includes instruction and time to work on your content. You&#39\;ll leave the final session with working drafts of your message and deck&mdash\;and have a chance to practice and receive feedback from the coach.<br />\n<br />\nYou&#39\;ll learn:</span>\n<ul>\n	<li><span style="color:rgb(109\, 139\, 154)">How to build compelling content</span></li>\n	<li><span style="color:rgb(109\, 139\, 154)">How to create strong visuals for your message</span></li>\n	<li><span style="color:rgb(109\, 139\, 154)">How to deliver your talk with confidence</span></li>\n</ul>\n\n<p><br />\nMay 21\, May 28\, June 4<br />\n1:30pm-3:-00pm on Zoom<br />\nCost: $895. $50 discount for chamber members using code CHAMBER50.<br />\nRegister <a href="https://app.acuityscheduling.com/schedule.php?owner=12626894">HERE</a>.<br />\n<br />\nAdd-on bonus discount:</p>\n\n<p>Supplementary one-on-one coaching sessions available at a discounted rate. Additional $100 discount on <em>supplementary coaching</em> for the first five registrants using code TALKBUILDER.</p>\n
LOCATION:Zoom\; link provided in registration.
UID:e.7785.21488
SEQUENCE:3
DTSTAMP:20260421T145843Z
URL:https://members.douglascountychamber.org/events/details/well-said-start-to-finish-talk-builder-workshop-series-21488
END:VEVENT

END:VCALENDAR
