BEGIN:VCALENDAR
VERSION:2.0
PRODID:-//ChamberMaster//Event Calendar 2.0//EN
METHOD:PUBLISH
X-PUBLISHED-TTL:P3D
REFRESH-INTERVAL:P3D
CALSCALE:GREGORIAN
BEGIN:VEVENT
DTSTART:20240910T220000Z
DTEND:20240911T000000Z
X-MICROSOFT-CDO-ALLDAYEVENT:FALSE
SUMMARY:WBA After Hours
DESCRIPTION:Women's Business Alliance after hours event. Parking is tight so sharing the ride is encouraged!
X-ALT-DESC;FMTTYPE=text/html:Women&#39\;s Business Alliance after hours event. Parking is tight so sharing the ride is encouraged!
LOCATION:Home of Jeane Dole 6364 S Hanover Court Englewood\, CO 80111
UID:e.7785.21542
SEQUENCE:3
DTSTAMP:20260421T050504Z
URL:https://members.douglascountychamber.org/events/details/wba-after-hours-21542
END:VEVENT

END:VCALENDAR
