BEGIN:VCALENDAR
VERSION:2.0
PRODID:-//ChamberMaster//Event Calendar 2.0//EN
METHOD:PUBLISH
X-PUBLISHED-TTL:P3D
REFRESH-INTERVAL:P3D
CALSCALE:GREGORIAN
BEGIN:VEVENT
DTSTART:20230719T180000Z
DTEND:20230719T190000Z
X-MICROSOFT-CDO-ALLDAYEVENT:FALSE
SUMMARY:Vitality Chiropractic Lunch and Learn
DESCRIPTION:Open to any chamber members interested in a free lunch and presentation from Vitality's very own Dr. Rob Anderson!  \n\n\n\nCome learn about:  SOS Stress Overload Syndrome\n\nQuieting the mind: stress relief made simple
X-ALT-DESC;FMTTYPE=text/html:<span style="font-size:16px\;"><strong><em>Open to any chamber members interested in a free lunch and presentation from Vitality&#39\;s very own Dr. Rob Anderson!&nbsp\;&nbsp\;<br />\n<br />\nCome learn about:&nbsp\; SOS Stress Overload Syndrome<br />\nQuieting the mind: stress relief made simple</em></strong></span>
LOCATION:Chamber Conference Room 300 Plaza Drive Highlands Ranch\, CO 80126
UID:e.7785.21360
SEQUENCE:3
DTSTAMP:20260422T044140Z
URL:https://members.douglascountychamber.org/events/details/vitality-chiropractic-lunch-and-learn-21360
END:VEVENT

END:VCALENDAR
