BEGIN:VCALENDAR
VERSION:2.0
PRODID:-//ChamberMaster//Event Calendar 2.0//EN
METHOD:PUBLISH
X-PUBLISHED-TTL:P3D
REFRESH-INTERVAL:P3D
CALSCALE:GREGORIAN
BEGIN:VEVENT
DTSTART:20221112T170000Z
DTEND:20221112T220000Z
X-MICROSOFT-CDO-ALLDAYEVENT:FALSE
SUMMARY:Village Holiday Market (ticket sales benefit YANAM2M)
DESCRIPTION:Come shop\, support a local nonprofit and get your holiday spirit going!!!  \nWe are gathering lots of local vendors and artisans under one roof for a BIG night of shopping !\n\nThis is THE perfect event for you to come and shop for unique gifts for your loved-ones for the holidays. Why wait weeks for a generic gift to ship when you can shop local\, unique gifts and bring it home that day?! ??\n\nYour $5 donation to charity will get you in the door to enjoy holiday crafts\, food\, drinks\, and lots of shopping. Come with your friends and family and enjoy a cozy night of community! ??
X-ALT-DESC;FMTTYPE=text/html:Come shop\, support a local nonprofit and get your holiday spirit going!!!&nbsp\;&nbsp\;\n<p>We are gathering lots of local vendors and artisans under one roof for a BIG night of shopping !</p>\n\n<p>This is THE perfect event for you to come and shop for unique gifts for your loved-ones for the holidays. Why wait weeks for a generic gift to ship when you can shop local\, unique gifts and bring it home that day?! ??</p>\n\n<p>Your $5 donation to charity will get you in the door to enjoy holiday crafts\, food\, drinks\, and lots of shopping. Come with your friends and family and enjoy a cozy night of community! ??</p>\n
LOCATION:The Village Workspace 7173 S. Havana St. Unit 600 Centennial\, CO 80112
UID:e.7785.21254
SEQUENCE:3
DTSTAMP:20260422T163340Z
URL:https://members.douglascountychamber.org/events/details/village-holiday-market-ticket-sales-benefit-yanam2m-21254
END:VEVENT

END:VCALENDAR
