BEGIN:VCALENDAR
VERSION:2.0
PRODID:-//ChamberMaster//Event Calendar 2.0//EN
METHOD:PUBLISH
X-PUBLISHED-TTL:P3D
REFRESH-INTERVAL:P3D
CALSCALE:GREGORIAN
BEGIN:VEVENT
DTSTART:20221111T013000Z
DTEND:20221111T030000Z
X-MICROSOFT-CDO-ALLDAYEVENT:FALSE
SUMMARY:Veterans Concert
DESCRIPTION:The Highlands Ranch Cultural Affairs Association presents an evening unlike any other. Join us for a night of patriotic music from the Denver Pops Orchestra inside the beautiful Highlands Ranch Mansion. As a community-based nonprofit organization serving metro Denver with great music for over 40 years\, Denver Pops Orchestra provides familiar music sure to please.
X-ALT-DESC;FMTTYPE=text/html:The Highlands Ranch Cultural Affairs Association presents an evening unlike any other. Join us for a night of patriotic music from the Denver Pops Orchestra inside the beautiful Highlands Ranch Mansion. As a community-based nonprofit organization serving metro Denver with great music for over 40 years\, Denver Pops Orchestra provides familiar music sure to please.
LOCATION:Highlands Ranch Mansion\, 9950 E Gateway Dr\, Highlands Ranch\, CO 80126
UID:e.7785.21239
SEQUENCE:3
DTSTAMP:20260422T162757Z
URL:https://members.douglascountychamber.org/events/details/veterans-concert-21239
END:VEVENT

END:VCALENDAR
