BEGIN:VCALENDAR
VERSION:2.0
PRODID:-//ChamberMaster//Event Calendar 2.0//EN
METHOD:PUBLISH
X-PUBLISHED-TTL:P3D
REFRESH-INTERVAL:P3D
CALSCALE:GREGORIAN
BEGIN:VEVENT
DTSTART:20230712T220000Z
DTEND:20230713T000000Z
X-MICROSOFT-CDO-ALLDAYEVENT:FALSE
SUMMARY:Total Vitality Open House July 2023
DESCRIPTION:Jay and Dom have always had a vision for total health and wellness for their family\, friends\, and neighbors.\n\nAfter a decade of building a successful personal training business\, Total Fitness Colorado\, they knew hormone treatments (HRT) and wellness therapies were essential components.\n\nThey founded Total Vitality Colorado in early 2022 and built a formidable team based in their convenient Highlands Ranch\, CO location.\n\nThey are now able to provide true total health\, fitness\, and wellness services to anyone seeking an integrated approach to achieving peak vitality and longevity.\n\n\n\nThe open house will have a raffle for a chance to win a free month's supply of B12\, $50 credit\, and $100 TVC credit. Attendees will receive 10% off their first treatment. Bare Blends will be there serving fresh pressed juice and light snacks. There will be some other drinks available too.
X-ALT-DESC;FMTTYPE=text/html:<div style="text-align: center\;">\n<p class="preFade fadeIn" style="margin: 0px 0px 1rem\; transition: opacity 0.9s ease 0.304918s\; font-family: &quot\;Pontano Sans&quot\;\; font-size: 17px\; white-space-collapse: preserve\; background-color: rgb(255\, 255\, 255)\; opacity: 1 !important\;"><span style="font-family:arial\;"><span style="font-size:16px\;">Jay and Dom have always had a vision for total health and wellness for their family\, friends\, and neighbors.</span></span></p>\n\n<p class="preFade fadeIn" style="margin: 1rem 0px\; transition: opacity 0.9s ease 0.314754s\; font-family: &quot\;Pontano Sans&quot\;\; font-size: 17px\; white-space-collapse: preserve\; background-color: rgb(255\, 255\, 255)\; opacity: 1 !important\;"><span style="font-family:arial\;"><span style="font-size:16px\;">After a decade of building a successful personal training business\, <a href="https://www.totalfitnesscolorado.com/" style="background-image: unset\; background-position: unset\; background-size: unset\; background-repeat: unset\; background-attachment: initial\; background-origin: initial\; background-clip: initial\; background-color: initial\; cursor: pointer\; text-decoration-thickness: 1px\; text-decoration-style: solid\; text-decoration-color: currentcolor\; white-space: initial\; text-underline-offset: 0.2em\; text-decoration-skip-ink: auto\; margin-top: 0px\; margin-bottom: 0px\;" target="_blank">Total Fitness Colorado</a>\, they knew hormone treatments (HRT) and wellness therapies were essential components.</span></span></p>\n\n<p class="preFade fadeIn" style="margin: 1rem 0px\; transition: opacity 0.9s ease 0.32459s\; font-family: &quot\;Pontano Sans&quot\;\; font-size: 17px\; white-space-collapse: preserve\; background-color: rgb(255\, 255\, 255)\; opacity: 1 !important\;"><span style="font-family:arial\;"><span style="font-size:16px\;">They founded Total Vitality Colorado in early 2022 and built a formidable team based in their convenient Highlands Ranch\, CO location.</span></span></p>\n\n<p class="preFade fadeIn" style="margin: 1rem 0px 0px\; transition: opacity 0.9s ease 0.334426s\; font-family: &quot\;Pontano Sans&quot\;\; font-size: 17px\; white-space-collapse: preserve\; background-color: rgb(255\, 255\, 255)\; opacity: 1 !important\;"><span style="font-family:arial\;"><span style="font-size:16px\;"><span style="font-weight: 700\; color: var(--image-block-card-image-subtitle-color)\; margin-top: 0px\; margin-bottom: 0px\;"><em style="color: var(--image-block-card-image-subtitle-color)\; margin-top: 0px\; margin-bottom: 0px\;">They are now able to provide true total health\, fitness\, and wellness services to anyone seeking an integrated approach to achieving peak vitality and longevity.</em></span></span></span><br />\n<br />\n<span style="font-family: &quot\;Pontano Sans&quot\;\; font-size: 17px\; white-space-collapse: preserve\; background-color: rgb(255\, 255\, 255)\;">The open house will have a raffle for a chance to </span><span style="font-weight: 700\; overflow-wrap: break-word\; font-family: &quot\;Pontano Sans&quot\;\; font-size: 17px\; white-space-collapse: preserve\; background-color: rgb(255\, 255\, 255)\;">win a free month&#39\;s supply of B12\, $50 credit\, and $100 TVC credit.</span><span style="font-family: &quot\;Pontano Sans&quot\;\; font-size: 17px\; white-space-collapse: preserve\; background-color: rgb(255\, 255\, 255)\;"> Attendees will receive </span><span style="font-weight: 700\; overflow-wrap: break-word\; font-family: &quot\;Pontano Sans&quot\;\; font-size: 17px\; white-space-collapse: preserve\; background-color: rgb(255\, 255\, 255)\;">10% off</span><span style="font-family: &quot\;Pontano Sans&quot\;\; font-size: 17px\; white-space-collapse: preserve\; background-color: rgb(255\, 255\, 255)\;"> their first treatment. </span><span style="font-weight: 700\; overflow-wrap: break-word\; font-family: &quot\;Pontano Sans&quot\;\; font-size: 17px\; white-space-collapse: preserve\; background-color: rgb(255\, 255\, 255)\;">Bare Blends</span><span style="font-family: &quot\;Pontano Sans&quot\;\; font-size: 17px\; white-space-collapse: preserve\; background-color: rgb(255\, 255\, 255)\;"> will be there serving fresh pressed juice and light snacks. There will be some other drinks&nbsp\;available&nbsp\;too.</span></p>\n<span style="font-family:arial\;"><span style="font-size:16px\;">&nbsp\;</span></span></div>\n
LOCATION:Total Vitality Colorado is located by the STEM School.
UID:e.7785.21358
SEQUENCE:3
DTSTAMP:20260422T044258Z
URL:https://members.douglascountychamber.org/events/details/total-vitality-open-house-july-2023-21358
END:VEVENT

END:VCALENDAR
