BEGIN:VCALENDAR
VERSION:2.0
PRODID:-//ChamberMaster//Event Calendar 2.0//EN
METHOD:PUBLISH
X-PUBLISHED-TTL:P3D
REFRESH-INTERVAL:P3D
CALSCALE:GREGORIAN
BEGIN:VEVENT
DTSTART:20220920T180000Z
DTEND:20220920T180000Z
X-MICROSOFT-CDO-ALLDAYEVENT:FALSE
SUMMARY:The Great Refresh: Bring Your Teams ALIVE with Clarity\, Cohesion and Connection!
DESCRIPTION:Join me in September to discover fresh research and tactical strategies for teams to gain clarity\, elevate cohesion\, and strengthen connection. Specifically\, 1. Know why clarity is essential in order for teams to focus on what matters most 2. List rituals and practices that positively impact team cohesion 3. Realize how strengths enhance team connection and engagement Register at www.activatecoach.com
X-ALT-DESC;FMTTYPE=text/html:Join me in September to discover fresh research and tactical strategies for teams to gain clarity\, elevate cohesion\, and strengthen connection. Specifically\, 1. Know why clarity is essential in order for teams to focus on what matters most 2. List rituals and practices that positively impact team cohesion 3. Realize how strengths enhance team connection and engagement Register at www.activatecoach.com
LOCATION:Zoom
UID:e.7785.21029
SEQUENCE:3
DTSTAMP:20260422T192846Z
URL:https://members.douglascountychamber.org/events/details/the-great-refresh-bring-your-teams-alive-with-clarity-cohesion-and-connection-21029
END:VEVENT

END:VCALENDAR
