BEGIN:VCALENDAR
VERSION:2.0
PRODID:-//ChamberMaster//Event Calendar 2.0//EN
METHOD:PUBLISH
X-PUBLISHED-TTL:P3D
REFRESH-INTERVAL:P3D
CALSCALE:GREGORIAN
BEGIN:VEVENT
DTSTART:20230718T160000Z
DTEND:20230718T170000Z
X-MICROSOFT-CDO-ALLDAYEVENT:FALSE
SUMMARY:sweetgreen Grand Opening Ribbon Cutting- Park Meadows
DESCRIPTION:sweetgreen Park Meadows is opening on July 18 and is brining fresh\, flavorful\, made-from-scratch food.  Farm to Table fast casual with the goal of connecting people to REAL food.  They are a locally sourced\, local impact organization. \n\n\n\nFor every meal sold on opening day\, Sweetgreen will donate a meal to Backpack Society to nourish families in Douglas County experiencing food insecurity. Backpack Society is dedicated to removing food insecurity as an obstacle for children so that they can grow\, learn and thrive.
X-ALT-DESC;FMTTYPE=text/html:sweetgreen Park Meadows is opening on July 18 and is brining fresh\, flavorful\, made-from-scratch food.&nbsp\; Farm to Table fast casual with the goal of connecting people to REAL food.&nbsp\; They are a locally sourced\, local impact organization.&nbsp\;<br />\n<br />\n<em><span style="font-family:calibri\,sans-serif\;"><span style="font-size:11.0pt\;">For every meal sold on opening day\, Sweetgreen will donate a meal to Backpack Society to nourish families in Douglas County experiencing food insecurity. Backpack Society is dedicated to removing food insecurity as an obstacle for children so that they can grow\, learn and thrive.</span></span></em>
LOCATION:8401 Park Meadows Center Dr.
UID:e.7785.21359
SEQUENCE:3
DTSTAMP:20260422T044534Z
URL:https://members.douglascountychamber.org/events/details/sweetgreen-grand-opening-ribbon-cutting-park-meadows-21359
END:VEVENT

END:VCALENDAR
