BEGIN:VCALENDAR
VERSION:2.0
PRODID:-//ChamberMaster//Event Calendar 2.0//EN
METHOD:PUBLISH
X-PUBLISHED-TTL:P3D
REFRESH-INTERVAL:P3D
CALSCALE:GREGORIAN
BEGIN:VEVENT
DTSTART:20221202T163000Z
DTEND:20221202T173000Z
X-MICROSOFT-CDO-ALLDAYEVENT:FALSE
SUMMARY:sweetgreen Grand Opening Ribbon Cutting
DESCRIPTION:sweetgreen Highlands Ranch opens on Friday\, December 2nd and is brining fresh\, flavorful\, made-from-scratch food.  Farm to Table fast casual with the goal of connecting people to REAL food.  They are a locally sourced\, local impact organization.  For every meal sold on opening day\, sweetgreen will donate a meal to Backpack Society to nourish students in Douglas County and Littleton Public School District experiencing food insecurity.
X-ALT-DESC;FMTTYPE=text/html:sweetgreen Highlands Ranch opens on Friday\, December 2nd and is brining fresh\, flavorful\, made-from-scratch food.&nbsp\; Farm to Table fast casual with the goal of connecting people to REAL food.&nbsp\; They are a locally sourced\, local impact organization.&nbsp\; For every meal sold on opening day\, sweetgreen will donate a meal to Backpack Society to nourish students in Douglas County and Littleton Public School District experiencing food insecurity.&nbsp\;&nbsp\;
LOCATION:3620 East Highlands Ranch Parkway Suite 101 Highlands Ranch\, CO 80126
UID:e.7785.21256
SEQUENCE:3
DTSTAMP:20260422T150116Z
URL:https://members.douglascountychamber.org/events/details/sweetgreen-grand-opening-ribbon-cutting-21256
END:VEVENT

END:VCALENDAR
