BEGIN:VCALENDAR
VERSION:2.0
PRODID:-//ChamberMaster//Event Calendar 2.0//EN
METHOD:PUBLISH
X-PUBLISHED-TTL:P3D
REFRESH-INTERVAL:P3D
CALSCALE:GREGORIAN
BEGIN:VEVENT
DTSTART:20220827T003000Z
DTEND:20220827T020000Z
X-MICROSOFT-CDO-ALLDAYEVENT:FALSE
SUMMARY:Summer Sunset Concert
DESCRIPTION:Join the Highlands Ranch Community Association and Highlands Ranch Metro District for one last hoorah to summer! 6 Million Dollar Band will be playing those 80's hits to keep you dancing all night long. Bring your friends and family for a beautiful summer night! Food trucks will be available.
X-ALT-DESC;FMTTYPE=text/html:Join the Highlands Ranch Community Association and Highlands Ranch Metro District for one last hoorah to summer! 6 Million Dollar Band will be playing those 80&#39\;s hits to keep you dancing all night long. Bring your friends and family for a beautiful summer night! Food trucks will be available.
LOCATION:Civic Green Park 9370 Ridgeline Blvd. Highlands Ranch\, CO 80129
UID:e.7785.20991
SEQUENCE:3
DTSTAMP:20260422T205825Z
URL:https://members.douglascountychamber.org/events/details/summer-sunset-concert-20991
END:VEVENT

END:VCALENDAR
