BEGIN:VCALENDAR
VERSION:2.0
PRODID:-//ChamberMaster//Event Calendar 2.0//EN
METHOD:PUBLISH
X-PUBLISHED-TTL:P3D
REFRESH-INTERVAL:P3D
CALSCALE:GREGORIAN
BEGIN:VEVENT
DTSTART:20230328T160000Z
DTEND:20230328T173000Z
X-MICROSOFT-CDO-ALLDAYEVENT:FALSE
SUMMARY:Strengthening the Workforce: Colorado Talent Pipeline Report
DESCRIPTION:Please join Arapahoe/Douglas Works! to learn about the Colorado Talent Pipeline Report.\n\nThe report identifies shifts in demand and top jobs\; it examines the current issues impacting talent in all parts of Colorado. The agenda includes:\n\n\n	Report Highlights   Examining key components of the supply\, demand\, and strategies sections.\n	Recommendations   An overview of this year's policy recommendations.\n	Q&A   Time for attendees to ask questions.\n\n\nGuest Speaker\n\nCaitlin McKennie is the talent pipeline economist for the Colorado Workforce Development Council Office and the Colorado Department of Higher Education.
X-ALT-DESC;FMTTYPE=text/html:<p><strong>Please join Arapahoe/Douglas Works! to learn about the Colorado Talent Pipeline Report.</strong></p>\n\n<p>The report identifies shifts in demand and top jobs\; it examines the current issues impacting talent in all parts of Colorado. The agenda includes:</p>\n\n<ul style="margin-left:0px\; margin-right:0px">\n	<li><strong>Report Highlights</strong>&nbsp\;&ndash\; Examining key components of the supply\, demand\, and strategies sections.</li>\n	<li><strong>Recommendations</strong>&nbsp\;&ndash\; An overview of this year&rsquo\;s policy recommendations.</li>\n	<li><strong>Q&amp\;A</strong>&nbsp\;&ndash\; Time for attendees to ask questions.</li>\n</ul>\n\n<p><strong>Guest Speaker</strong><br />\nCaitlin McKennie is the talent pipeline economist for the Colorado Workforce Development Council Office and the Colorado Department of Higher Education.</p>\n
LOCATION:Register via Zoom at http://bit.ly/3JV37qC.
UID:e.7785.21284
SEQUENCE:3
DTSTAMP:20260422T121036Z
URL:https://members.douglascountychamber.org/events/details/strengthening-the-workforce-colorado-talent-pipeline-report-21284
END:VEVENT

END:VCALENDAR
