BEGIN:VCALENDAR
VERSION:2.0
PRODID:-//ChamberMaster//Event Calendar 2.0//EN
METHOD:PUBLISH
X-PUBLISHED-TTL:P3D
REFRESH-INTERVAL:P3D
CALSCALE:GREGORIAN
BEGIN:VEVENT
DTSTART:20220319T150000Z
DTEND:20220319T230000Z
X-MICROSOFT-CDO-ALLDAYEVENT:FALSE
SUMMARY:Spring Craft Bazaar
DESCRIPTION:Spring is in the air and the Highlands Ranch Community Association Spring Craft Bazaar is back! Visit with over 125 commercial and hand crafters displaying and selling unique and high quality products. This one of a kind marketplace will include photography\, original art\, sculpture\, ceramics\, specialty food\, precious jewelry and gems and so much more! The Bazaar is guaranteed to please and everything is priced to sell. Admission is free so you do not want to miss out on this great event!
X-ALT-DESC;FMTTYPE=text/html:Spring is in the air and the Highlands Ranch Community Association Spring Craft Bazaar is back! Visit with over 125 commercial and hand crafters displaying and selling unique and high quality products. This one of a kind marketplace will include photography\, original art\, sculpture\, ceramics\, specialty food\, precious jewelry and gems and so much more! The Bazaar is guaranteed to please and everything is priced to sell. Admission is free so you do not want to miss out on this great event!
LOCATION:Eastridge Recreation Center\, 9568 University Blvd\, Highlands Ranch\, CO 80126
UID:e.7785.19611
SEQUENCE:3
DTSTAMP:20260425T163538Z
URL:https://members.douglascountychamber.org/events/details/spring-craft-bazaar-03-19-2022-19611
END:VEVENT

END:VCALENDAR
