BEGIN:VCALENDAR
VERSION:2.0
PRODID:-//ChamberMaster//Event Calendar 2.0//EN
METHOD:PUBLISH
X-PUBLISHED-TTL:P3D
REFRESH-INTERVAL:P3D
CALSCALE:GREGORIAN
BEGIN:VEVENT
DTSTART:20240502T230000Z
DTEND:20240503T010000Z
X-MICROSOFT-CDO-ALLDAYEVENT:FALSE
SUMMARY:Simply Savor Ribbon Cutting
DESCRIPTION:Join NWDCCEDC to celebrate Simply Savor with a ribbon cutting! \nSimply Savor is a woman-owned\, small business specializing in full service catering\, charcuterie & weekly meal delivery.\n\nDriven by a lifelong passion for food & service\, owners Angela Sasz & Lindsay Lineberry continue to bring freshness & creativity to Denver's catering market.\n\nWe love creating custom catering menus for Corporate\, Wedding & Social Events to fit each client's unique taste\, budget & vision.\n\nWe are also excited to offer a weekly meal delivery service to relieve the stress of getting a healthy and delicious dinner on your table!\n\nAll of our Charcuterie Boards\, Boxes & Grazing Tables include artisan cheeses\, charcuterie meats\, fresh/dried fruits and accoutrements such as assorted crackers\, olives\, nuts\, cornichons\, jams\, honeys\, vegetables and our crafted gourmet spreads.
X-ALT-DESC;FMTTYPE=text/html:Join NWDCCEDC to celebrate Simply Savor with a ribbon cutting!&nbsp\;\n<p>Simply Savor is a woman-owned\, small business specializing in full service catering\, charcuterie &amp\; weekly meal delivery.<o:p></o:p></p>\n\n<p>Driven by a lifelong passion for food &amp\; service\, owners Angela Sasz &amp\; Lindsay Lineberry continue to bring freshness &amp\; creativity to Denver&rsquo\;s catering market.<o:p></o:p></p>\n\n<p>We love creating custom catering menus for Corporate\, Wedding &amp\; Social Events to fit each client&rsquo\;s unique taste\, budget &amp\; vision.<o:p></o:p></p>\n\n<p>We are also excited to offer a weekly meal delivery service to relieve the stress of getting a healthy and delicious dinner on your table!<o:p></o:p></p>\n\n<p>All of our Charcuterie Boards\, Boxes &amp\; Grazing Tables include artisan cheeses\, charcuterie meats\, fresh/dried fruits and accoutrements such as assorted crackers\, olives\, nuts\, cornichons\, jams\, honeys\, vegetables and our crafted gourmet spreads.<o:p></o:p></p>\n
LOCATION:9878 Schwab Way\, Suite 401 Lone Tree\, Colorado 80124
UID:e.7785.21482
SEQUENCE:3
DTSTAMP:20260421T123613Z
URL:https://members.douglascountychamber.org/events/details/simply-savor-ribbon-cutting-21482
END:VEVENT

END:VCALENDAR
