BEGIN:VCALENDAR
VERSION:2.0
PRODID:-//ChamberMaster//Event Calendar 2.0//EN
METHOD:PUBLISH
X-PUBLISHED-TTL:P3D
REFRESH-INTERVAL:P3D
CALSCALE:GREGORIAN
BEGIN:VEVENT
DTSTART:20240420T183000Z
DTEND:20240420T223000Z
X-MICROSOFT-CDO-ALLDAYEVENT:FALSE
SUMMARY:School of Rock Highlands Ranch Open House
DESCRIPTION:Join us at our Open House on Saturday\, April 20th from 12:30pm-4:30pm and see why School of Rock Highlands Ranch is one of the best music education programs out there!\n\n \n\nWe will be offering free classes\, mini lessons\, tours\, and a variety of activities!\n\n \n\nMake sure to check out live performances by our very own House Band throughout the day!\n\n \n\nTours\n\nFood/Drinks\n\nPrizes\n\nLive Music\n\nFree Mini lessons\n\nRaffle\n\n \n\nWe'll also be offering a special enrollment discount to any new students who enroll at the event!\n\nThis event is FREE and open to the public! Please share with family\, friends and neighbors!\n\n \n\nFor more information on our school and programs\, check out our website at https://www.schoolofrock.com/locations/highlandsranch\n\n \n\nWe look forward to seeing you all in the school on Saturday 4/20!
X-ALT-DESC;FMTTYPE=text/html:<div>Join us at our Open House on Saturday\, April 20th from 12:30pm-4:30pm and see why School of Rock Highlands Ranch is one of the best music education programs out there!<br />\n&nbsp\;</div>\n\n<div>We will be offering free classes\, mini lessons\, tours\, and a variety of activities!<br />\n&nbsp\;</div>\n\n<div>Make sure to check out live performances by our very own House Band throughout the day!<br />\n&nbsp\;</div>\n\n<div>Tours<br />\nFood/Drinks<br />\nPrizes<br />\nLive Music<br />\nFree Mini lessons<br />\nRaffle<br />\n&nbsp\;</div>\n\n<div>We&#39\;ll also be offering a special enrollment discount to any new students who enroll at the event!</div>\n\n<div>This event is FREE and open to the public! Please share with family\, friends and neighbors!<br />\n&nbsp\;</div>\n\n<div>For more information on our school and programs\, check out our website at&nbsp\;<a class="x1i10hfl xjbqb8w x1ejq31n xd10rxx x1sy0etr x17r0tee x972fbf xcfux6l x1qhh985 xm0m39n x9f619 x1ypdohk xt0psk2 xe8uvvx xdj266r x11i5rnm xat24cr x1mh8g0r xexx8yu x4uap5 x18d9i69 xkhd6sd x16tdsg8 x1hl2dhg xggy1nq x1a2a7pz xt0b8zv x1fey0fg" href="https://www.schoolofrock.com/locations/highlandsranch" rel="nofollow noreferrer" style="color: var(--blue-link)\; cursor: pointer\; text-decoration-line: none\; outline: none\; list-style: none\; margin: 0px\; text-align: inherit\; border-style: none\; -webkit-tap-highlight-color: transparent\; padding: 0px\; border-width: 0px\; box-sizing: border-box\; touch-action: manipulation\; background-color: transparent\; display: inline\; font-family: inherit\;" tabindex="0" target="_blank">https://www.schoolofrock.com/locations/highlandsranch</a><br />\n&nbsp\;</div>\n\n<div>We look forward to seeing you all in the school on Saturday 4/20!</div>\n
LOCATION:School of Rock Highlands Ranch 9265 S. Broadway - Unit 200 Highlands Ranch\, CO 80129
UID:e.7785.21483
SEQUENCE:3
DTSTAMP:20260421T164522Z
URL:https://members.douglascountychamber.org/events/details/school-of-rock-highlands-ranch-open-house-21483
END:VEVENT

END:VCALENDAR
