BEGIN:VCALENDAR
VERSION:2.0
PRODID:-//ChamberMaster//Event Calendar 2.0//EN
METHOD:PUBLISH
X-PUBLISHED-TTL:P3D
REFRESH-INTERVAL:P3D
CALSCALE:GREGORIAN
BEGIN:VEVENT
DTSTART:20230707T203000Z
DTEND:20230707T220000Z
X-MICROSOFT-CDO-ALLDAYEVENT:FALSE
SUMMARY:School of Rock Grand Opening and Ribbon Cutting
DESCRIPTION:Please join us as we celebrate the Grand Opening of School Of Rock Highlands Ranch!  We will cut ribbon and have snacks\, drinks and tours!
X-ALT-DESC;FMTTYPE=text/html:<strong><span style="font-size:16px\;">Please join us as we celebrate the Grand Opening of School Of Rock Highlands Ranch!&nbsp\; We will cut ribbon and have snacks\, drinks and tours!&nbsp\;</span></strong>
LOCATION:9265 S Broadway. Suite 200 Highlands Ranch\, CO
UID:e.7785.21357
SEQUENCE:3
DTSTAMP:20260422T044659Z
URL:https://members.douglascountychamber.org/events/details/school-of-rock-grand-opening-and-ribbon-cutting-21357
END:VEVENT

END:VCALENDAR
