BEGIN:VCALENDAR
VERSION:2.0
PRODID:-//ChamberMaster//Event Calendar 2.0//EN
METHOD:PUBLISH
X-PUBLISHED-TTL:P3D
REFRESH-INTERVAL:P3D
CALSCALE:GREGORIAN
BEGIN:VEVENT
DTSTART:20221015T190000Z
DTEND:20221016T003000Z
X-MICROSOFT-CDO-ALLDAYEVENT:FALSE
SUMMARY:Rise Up: From Divorced 2 Divine
DESCRIPTION:Rise Up: From Divorced 2 Divine is the only event of its kind!\n\n \n\n\n\nSaturday\, October 15\, 2022 in Denver\, Colorado (virtual tickets available)\n\n \n\n\n\nThis one-of-a-kind conference is designed to educate\, energize and empower women in their next chapter of life.\n\n\n\nThree ticket tiers.\n\n \n\nVirtual Ticket (LIVE) ticket is $49\n\nGeneral Admission is $149.00\n\nVIP Ticket is $225.00\n\n \n\n\n\nRegister at www.bit.ly/2022riseup
X-ALT-DESC;FMTTYPE=text/html:<div>\n<div>Rise Up: From Divorced 2 Divine is the only event of its kind!<br />\n&nbsp\;</div>\n</div>\n\n<div>\n<div>Saturday\, October 15\, 2022 in Denver\, Colorado (virtual tickets available)<br />\n&nbsp\;</div>\n</div>\n\n<div>\n<div>This one-of-a-kind conference is designed to educate\, energize and empower women in their next chapter of life.</div>\n</div>\n\n<div>\n<div>Three ticket tiers.<br />\n&nbsp\;</div>\n\n<div>Virtual Ticket (LIVE) ticket is $49</div>\n\n<div>General Admission is $149.00</div>\n\n<div>VIP Ticket is $225.00<br />\n&nbsp\;</div>\n</div>\n\n<div>\n<div>Register at <span style="font-family:inherit"><a class="oajrlxb2 g5ia77u1 qu0x051f esr5mh6w e9989ue4 r7d6kgcz rq0escxv nhd2j8a9 nc684nl6 p7hjln8o kvgmc6g5 cxmmr5t8 oygrvhab hcukyx3x jb3vyjys rz4wbd8a qt6c0cv9 a8nywdso i1ao9s8h esuyzwwr f1sip0of lzcic4wl gpro0wi8 py34i1dx" href="https://l.facebook.com/l.php?u=http%3A%2F%2Fwww.bit.ly%2F2022riseup%3Ffbclid%3DIwAR1TmRmu5cgaXioJlzLE0cBs_rsmZ9sSH13PstttfuLLEVvu6VYwhlOjfyw&amp\;h=AT3c64Okh4ZoW_4YTPCi2sX7JAE6Pb6NBxGxDTmElsjKdTjTUc3EkA1Ou9rgea7r3ENtFWTdaMVrFUglbaWhHPLvM2_emh_DOU2YFGAerVuhe5xltoRJyS23sBmcndH1NZZefIgv1VTsWPsCfQ&amp\;__tn__=-UK-R&amp\;c[0]=AT1o5_MxubBoQPAemyPaKf9C8GS9_kKFUG9rDvJV9unT6iG8mIMCnoORChjywAslb_p-re03Qb4ps4yi28aH73fdh3PulpcCumC_bOOV_lkEPGHc9uaXNBfJMqbQkWO3CJoJvW0o-3TgPVccwXScWMIyXnlIRQ98GgrFYA-zbhNUPOUSzlLfBsJf4U_lrrDOIkuhATjz8LS6WqXW6UpVknyS8xvar0EKVscUGg" rel="nofollow" style="cursor: pointer\; text-decoration-line: none\; outline: none\; list-style: none\; border-width: 0px\; border-style: initial\; border-color: initial\; padding: 0px\; margin: 0px\; touch-action: manipulation\; background-color: transparent\; text-align: inherit\; display: inline\; -webkit-tap-highlight-color: transparent\; box-sizing: border-box\; font-family: inherit\;" tabindex="0" target="_blank">www.bit.ly/2022riseup</a></span></div>\n</div>\n
LOCATION:Denver\, CO: Double Tree Hotel (and virtual)
UID:e.7785.20924
SEQUENCE:3
DTSTAMP:20260422T175407Z
URL:https://members.douglascountychamber.org/events/details/rise-up-from-divorced-2-divine-20924
END:VEVENT

END:VCALENDAR
