BEGIN:VCALENDAR
VERSION:2.0
PRODID:-//ChamberMaster//Event Calendar 2.0//EN
METHOD:PUBLISH
X-PUBLISHED-TTL:P3D
REFRESH-INTERVAL:P3D
CALSCALE:GREGORIAN
BEGIN:VEVENT
DTSTART:20240510T220000Z
DTEND:20240511T000000Z
X-MICROSOFT-CDO-ALLDAYEVENT:FALSE
SUMMARY:Ribbon Cutting: Olive Juice Beauty Bar
DESCRIPTION:Join Douglas County EDC at Olive Juice Beauty Bar for their grand opening and chamber ribbon cutting. See Chamber Hot Deal's section for specials they have running for you!
X-ALT-DESC;FMTTYPE=text/html:Join Douglas County EDC at Olive Juice Beauty Bar for their grand opening and chamber ribbon cutting. See Chamber Hot Deal&#39\;s section for specials they have running for you!&nbsp\;
LOCATION:3624 E Highlands Ranch Pkwy #201
UID:e.7785.21499
SEQUENCE:3
DTSTAMP:20260421T123641Z
URL:https://members.douglascountychamber.org/events/details/ribbon-cutting-olive-juice-beauty-bar-21499
END:VEVENT

END:VCALENDAR
