BEGIN:VCALENDAR
VERSION:2.0
PRODID:-//ChamberMaster//Event Calendar 2.0//EN
METHOD:PUBLISH
X-PUBLISHED-TTL:P3D
REFRESH-INTERVAL:P3D
CALSCALE:GREGORIAN
BEGIN:VEVENT
DTSTART:20240514T183000Z
DTEND:20240514T203000Z
X-MICROSOFT-CDO-ALLDAYEVENT:FALSE
SUMMARY:Ribbon Cutting: Ivybrook Academy
DESCRIPTION:Partake in a ribbon cutting at approximately 12:30PM\, tour Ivybrook Academy\, enjoy light snacks and discover registration and summer camp opportunities!
X-ALT-DESC;FMTTYPE=text/html:Partake in a ribbon cutting at approximately 12:30PM\, tour Ivybrook Academy\, enjoy light snacks and discover registration and summer camp opportunities!&nbsp\;
LOCATION:9345 S. Colorado Blvd. Highlands Ranch\, CO 80126
UID:e.7785.21498
SEQUENCE:3
DTSTAMP:20260421T123600Z
URL:https://members.douglascountychamber.org/events/details/ribbon-cutting-ivybrook-academy-21498
END:VEVENT

END:VCALENDAR
