BEGIN:VCALENDAR
VERSION:2.0
PRODID:-//ChamberMaster//Event Calendar 2.0//EN
METHOD:PUBLISH
X-PUBLISHED-TTL:P3D
REFRESH-INTERVAL:P3D
CALSCALE:GREGORIAN
BEGIN:VEVENT
DTSTART:20221029T160000Z
DTEND:20221029T200000Z
X-MICROSOFT-CDO-ALLDAYEVENT:FALSE
SUMMARY:Prescription Drug Take Back Event
DESCRIPTION:Safely dispose of prescription and over-the-counter medications. The National Prescription Drug Take Back Day aims to provide a safe\, convenient and responsible means of disposing of prescription and over-the-counter drugs\, while also educating the general public about the potential for abuse of medications.
X-ALT-DESC;FMTTYPE=text/html:Safely dispose of prescription and over-the-counter medications. The National Prescription Drug Take Back Day aims to provide a safe\, convenient and responsible means of disposing of prescription and over-the-counter drugs\, while also educating the general public about the potential for abuse of medications.
LOCATION:Douglas County Sheriff's Office Highlands Ranch Substation\, 9250 Zotos Drive\, Highlands Ranch
UID:e.7785.21033
SEQUENCE:3
DTSTAMP:20260422T175942Z
URL:https://members.douglascountychamber.org/events/details/prescription-drug-take-back-event-21033
END:VEVENT

END:VCALENDAR
