BEGIN:VCALENDAR
VERSION:2.0
PRODID:-//ChamberMaster//Event Calendar 2.0//EN
METHOD:PUBLISH
X-PUBLISHED-TTL:P3D
REFRESH-INTERVAL:P3D
CALSCALE:GREGORIAN
BEGIN:VEVENT
DTSTART:20230717T203000Z
DTEND:20230717T230000Z
X-MICROSOFT-CDO-ALLDAYEVENT:FALSE
SUMMARY:POSTPONED- Ignite Lab Ribbon Cutting- POSTPONED!!!
DESCRIPTION:THIS EVENT IS BEING POSTPONED TO A LATER DATE TO BE ANNOUNCED SOON. \n\n\n\nHelp us welcome Lockheed Martin's Ignite Lab to the NWDC Chamber and EDC Community!
X-ALT-DESC;FMTTYPE=text/html:<span style="font-size:16px\;"><span style="font-family:verdana\;"><span style="color:#FF0000\;">THIS EVENT IS BEING POSTPONED TO A LATER DATE TO BE ANNOUNCED SOON.&nbsp\;</span><br />\n<br />\nHelp us welcome Lockheed Martin&#39\;s Ignite Lab to the NWDC Chamber and EDC Community!&nbsp\; &nbsp\;</span></span><br />\n&nbsp\;
LOCATION:
UID:e.7785.21361
SEQUENCE:3
DTSTAMP:20260422T044326Z
URL:https://members.douglascountychamber.org/events/details/postponed-ignite-lab-ribbon-cutting-postponed-21361
END:VEVENT

END:VCALENDAR
