BEGIN:VCALENDAR
VERSION:2.0
PRODID:-//ChamberMaster//Event Calendar 2.0//EN
METHOD:PUBLISH
X-PUBLISHED-TTL:P3D
REFRESH-INTERVAL:P3D
CALSCALE:GREGORIAN
BEGIN:VEVENT
DTSTART:20201122T230000Z
DTEND:20201123T040000Z
X-MICROSOFT-CDO-ALLDAYEVENT:FALSE
SUMMARY:Perry's Steakhouse & Grille-Pork Chop Sunday Supper
DESCRIPTION:Choice of a salad\, our famous pork chop and a dessert trio
X-ALT-DESC;FMTTYPE=text/html:Choice of a salad\, our famous pork chop and a dessert trio
LOCATION:Perry's Steakhouse & Grille 8433 Park Meadows Center Drive\, Suite D154 Lone Tree\, CO 80124 Reservations Recommended-Call 303.792.2571
UID:e.7785.17766
SEQUENCE:3
DTSTAMP:20260421T053500Z
URL:https://members.douglascountychamber.org/events/details/perry-s-steakhouse-grille-pork-chop-sunday-supper-11-22-2020-17766
END:VEVENT

END:VCALENDAR
