BEGIN:VCALENDAR
VERSION:2.0
PRODID:-//ChamberMaster//Event Calendar 2.0//EN
METHOD:PUBLISH
X-PUBLISHED-TTL:P3D
REFRESH-INTERVAL:P3D
CALSCALE:GREGORIAN
BEGIN:VEVENT
DTSTART:20220729T003000Z
DTEND:20220729T023000Z
X-MICROSOFT-CDO-ALLDAYEVENT:FALSE
SUMMARY:North vs. South American Bar Fogo Event
DESCRIPTION:Thursday\, July 28\, 2022 6:30 PM - 8:30 PM\n\n\n\nLone Tree\, CO 80124\n\nFogo de Chao Lone Tree\n\n8419 Park Meadows Center Dr\, Lone Tree\, CO\n\n\n\n\n\n\n\n\n\nBAR FOGO EVENT\n\nJoin us for a side-by-side wine event featuring some of the most renowned varietals from North and South America alongside a variety of small plates from the award-winning Bar Fogo menu.\n\n$39 per person*\n\nWHEN\n\nThursday\, July 28th at 6:30-8:30 PM Local Time\n\nRESERVATIONS\n\nhttps://www.opentable.com/booking/experiences-availability?rid=1028632&restref=1028632&experienceId=89786
X-ALT-DESC;FMTTYPE=text/html:<div>\n<div>\n<div>Thursday\, July 28\, 2022 6:30 PM - 8:30 PM</div>\n\n<div>\n<address>\n<div>Lone Tree\, CO 80124<br />\nFogo de Chao Lone Tree<br />\n8419 Park Meadows Center Dr\, Lone Tree\, CO</div>\n</address>\n</div>\n</div>\n</div>\n\n<div>\n<div>\n<div>\n<div>\n<h2>BAR FOGO EVENT</h2>\n\n<p>Join us for a side-by-side wine event featuring some of the most renowned varietals from North and South America alongside a variety of small plates from the award-winning Bar Fogo menu.</p>\n\n<h2>$39&nbsp\;per person*</h2>\n\n<p><strong>WHEN</strong></p>\n\n<p>Thursday\, July 28th at 6:30-8:30 PM Local Time</p>\n\n<p><strong>RESERVATIONS</strong></p>\n\n<p>https://www.opentable.com/booking/experiences-availability?rid=1028632&amp\;restref=1028632&amp\;experienceId=89786&nbsp\;&nbsp\;</p>\n</div>\n</div>\n</div>\n</div>\n
LOCATION:LONE TREE\, COLORADO 8419 Park Meadows Center Dr. Lone Tree\, CO 80124 303-481-4001
UID:e.7785.20929
SEQUENCE:3
DTSTAMP:20260422T222958Z
URL:https://members.douglascountychamber.org/events/details/north-vs-south-american-bar-fogo-event-20929
END:VEVENT

END:VCALENDAR
