BEGIN:VCALENDAR
VERSION:2.0
PRODID:-//ChamberMaster//Event Calendar 2.0//EN
METHOD:PUBLISH
X-PUBLISHED-TTL:P3D
REFRESH-INTERVAL:P3D
CALSCALE:GREGORIAN
BEGIN:VEVENT
DTSTART:20270901T193000Z
DTEND:20270901T203000Z
X-MICROSOFT-CDO-ALLDAYEVENT:FALSE
SUMMARY:Non-Profit Anchor Group
DESCRIPTION:
X-ALT-DESC;FMTTYPE=text/html:
LOCATION:
UID:e.7785.22016
SEQUENCE:3
DTSTAMP:20260420T081012Z
URL:https://members.douglascountychamber.org/events/details/non-profit-anchor-group-09-01-2027-22016
END:VEVENT

END:VCALENDAR
