BEGIN:VCALENDAR
VERSION:2.0
PRODID:-//ChamberMaster//Event Calendar 2.0//EN
METHOD:PUBLISH
X-PUBLISHED-TTL:P3D
REFRESH-INTERVAL:P3D
CALSCALE:GREGORIAN
BEGIN:VEVENT
DTSTART:20240529T200000Z
DTEND:20240529T203000Z
X-MICROSOFT-CDO-ALLDAYEVENT:FALSE
SUMMARY:Navigating Debt Repayment Webinar- Ent Credit Union
DESCRIPTION:Learn good money habits and debt repayment strategies so you're ready for unforeseen financial hiccups. Register at: https://www.ent.com/events/
X-ALT-DESC;FMTTYPE=text/html:<span style="color:rgb(28\, 25\, 29)\; font-family:arial\,helvetica\,sans-serif\; font-size:16px">Learn good money habits and debt repayment strategies so you&rsquo\;re ready for unforeseen financial hiccups. Register at:&nbsp\;</span>https://www.ent.com/events/
LOCATION:Online
UID:e.7785.21507
SEQUENCE:3
DTSTAMP:20260421T123319Z
URL:https://members.douglascountychamber.org/events/details/navigating-debt-repayment-webinar-21507
END:VEVENT

END:VCALENDAR
