BEGIN:VCALENDAR
VERSION:2.0
PRODID:-//ChamberMaster//Event Calendar 2.0//EN
METHOD:PUBLISH
X-PUBLISHED-TTL:P3D
REFRESH-INTERVAL:P3D
CALSCALE:GREGORIAN
BEGIN:VEVENT
DTSTART:20230525T160000Z
DTEND:20230525T180000Z
X-MICROSOFT-CDO-ALLDAYEVENT:FALSE
SUMMARY:Navigate Health Chiropractic 1 Year Celebration and Ribbon Cutting
DESCRIPTION:Please join us as we celebrate the 1 year Anniversary of Navigate Health Chiropractic and cut ribbon to welcome them into their second year!
X-ALT-DESC;FMTTYPE=text/html:<span style="font-size:26px\;"><strong>Please join us as we celebrate the 1 year Anniversary of Navigate Health Chiropractic and cut ribbon to welcome them into their second year!&nbsp\;</strong></span>
LOCATION:200 W County Line Rd. Unit 301\, Highlands Ranch
UID:e.7785.21341
SEQUENCE:3
DTSTAMP:20260422T071945Z
URL:https://members.douglascountychamber.org/events/details/navigate-health-chiropractic-1-year-celebration-and-ribbon-cutting-21341
END:VEVENT

END:VCALENDAR
