BEGIN:VCALENDAR
VERSION:2.0
PRODID:-//ChamberMaster//Event Calendar 2.0//EN
METHOD:PUBLISH
X-PUBLISHED-TTL:P3D
REFRESH-INTERVAL:P3D
CALSCALE:GREGORIAN
BEGIN:VEVENT
DTSTART:20240511T170000Z
DTEND:20240511T200000Z
X-MICROSOFT-CDO-ALLDAYEVENT:FALSE
SUMMARY:Mothers Day Spa Day
DESCRIPTION:Hosting Mothers Day Spa Day with a Anti-aging IV and a 30 Minute Massage for only $200 (Value is over $300) Tickets for sale -call 720-450-2364 to purchase and reserve
X-ALT-DESC;FMTTYPE=text/html:Hosting Mothers Day Spa Day with a Anti-aging IV and a 30 Minute Massage for only $200 (Value is over $300) Tickets for sale -call 720-450-2364 to purchase and reserve
LOCATION:9245 S Broadway Unit 600
UID:e.7785.21500
SEQUENCE:3
DTSTAMP:20260421T123447Z
URL:https://members.douglascountychamber.org/events/details/mothers-day-spa-day-21500
END:VEVENT

END:VCALENDAR
