BEGIN:VCALENDAR
VERSION:2.0
PRODID:-//ChamberMaster//Event Calendar 2.0//EN
METHOD:PUBLISH
X-PUBLISHED-TTL:P3D
REFRESH-INTERVAL:P3D
CALSCALE:GREGORIAN
BEGIN:VEVENT
DTSTART:20230120T000000Z
DTEND:20230120T010000Z
X-MICROSOFT-CDO-ALLDAYEVENT:FALSE
SUMMARY:Morning Mojo: Discover How to Kick-Start Your Day\, Your Way\, in 2023!
DESCRIPTION:Rise and Shine\, my friend! Are you eager to reclaim your days\, spend time on what matters most or get a handle on your schedule? Then join me for my brand new workshop to learn how to transform your mornings from messy to meaningful. You'll get five simple steps to experience more calm\, focus\, intention\, and organization in your days!
X-ALT-DESC;FMTTYPE=text/html:Rise and Shine\, my friend! Are you eager to reclaim your days\, spend time on what matters most or get a handle on your schedule? Then join me for my brand new workshop to learn how to transform your mornings from messy to meaningful. You&rsquo\;ll get five simple steps to experience more calm\, focus\, intention\, and organization in your days!
LOCATION:https://www.activatecoach.com/masterclass
UID:e.7785.21272
SEQUENCE:3
DTSTAMP:20260422T132640Z
URL:https://members.douglascountychamber.org/events/details/morning-mojo-discover-how-to-kick-start-your-day-your-way-in-2023-01-19-2023-21272
END:VEVENT

END:VCALENDAR
