BEGIN:VCALENDAR
VERSION:2.0
PRODID:-//ChamberMaster//Event Calendar 2.0//EN
METHOD:PUBLISH
X-PUBLISHED-TTL:P3D
REFRESH-INTERVAL:P3D
CALSCALE:GREGORIAN
BEGIN:VEVENT
DTSTART:20240604T160000Z
DTEND:20240604T163000Z
X-MICROSOFT-CDO-ALLDAYEVENT:FALSE
SUMMARY:Money Mapping Webinar- Ent Credit Union
DESCRIPTION:Discover how to set financial goals\, budget effectively and save wisely to reach your goals. Register at: https://www.ent.com/events/
X-ALT-DESC;FMTTYPE=text/html:<span style="color:rgb(28\, 25\, 29)\; font-family:arial\,helvetica\,sans-serif\; font-size:16px">Discover how to set financial goals\, budget effectively and save wisely to reach your goals. Register at:&nbsp\;</span>https://www.ent.com/events/
LOCATION:Online
UID:e.7785.21508
SEQUENCE:3
DTSTAMP:20260421T121131Z
URL:https://members.douglascountychamber.org/events/details/money-mapping-webinar-21508
END:VEVENT

END:VCALENDAR
