BEGIN:VCALENDAR
VERSION:2.0
PRODID:-//ChamberMaster//Event Calendar 2.0//EN
METHOD:PUBLISH
X-PUBLISHED-TTL:P3D
REFRESH-INTERVAL:P3D
CALSCALE:GREGORIAN
BEGIN:VEVENT
DTSTART:20230418T220000Z
DTEND:20230419T000000Z
X-MICROSOFT-CDO-ALLDAYEVENT:FALSE
SUMMARY:Men of Business - August 2022
DESCRIPTION:Men of Business- April 2023\n\n\nWe are excited to bring back our Men of Business networking event!\n\n\n\nPlease join us at The Pinball Pub where you will connect with other business leaders\, expand your network\, and have a great time doing it!\n\n\n\nThis is an opportunity to connect\, share your businesses successes\, and learn from others on how they have thrived in our community!\n\n\n\nWe look forward to seeing you there!
X-ALT-DESC;FMTTYPE=text/html:<h1 style="text-align: center\;">Men of Business- April 2023</h1>\n<br />\n<span style="font-family:verdana\;"><span style="font-size:16px\;">We are excited to bring back our Men of Business networking event!<br />\n<br />\nPlease join us at The Pinball Pub where you will connect with other business leaders\, expand your network\, and have a great time doing it!<br />\n<br />\nThis is an opportunity to connect\, share your businesses successes\, and learn from others on how they have thrived in our community!<br />\n<br />\nWe look forward to seeing you there!</span></span>
LOCATION:
UID:e.7785.21329
SEQUENCE:3
DTSTAMP:20260422T084858Z
URL:https://members.douglascountychamber.org/events/details/men-of-business-august-2022-21329
END:VEVENT

END:VCALENDAR
