BEGIN:VCALENDAR
VERSION:2.0
PRODID:-//ChamberMaster//Event Calendar 2.0//EN
METHOD:PUBLISH
X-PUBLISHED-TTL:P3D
REFRESH-INTERVAL:P3D
CALSCALE:GREGORIAN
BEGIN:VEVENT
DTSTART:20230621T173000Z
DTEND:20230621T190000Z
X-MICROSOFT-CDO-ALLDAYEVENT:FALSE
SUMMARY:Membership Luncheon - June 2023
DESCRIPTION:June 2023 Membership Luncheon\n \n\n \n\n\nPlease join us for our June Membership Luncheon presented by Nikki Brooker at Fogo De Chao Park Meadows.  This luncheon will focus on the Male and Female Brain:  What's the Difference?\n\nWe will be learning on how this can be applied in BUSINESS\, SALES AND PARENTING!  Nikki Brooker\, published author\, founder of YANA and Nikki Brooker Photography did her masters thesis and researched this topic for 18 months.  The science behind it will fascinate you and give you information that could change the way you communicate and work with others.  \n\n\n\nOur member luncheons offer great networking\, an opportunity to make with new business connections and catch up with other.  Each luncheon has a different guest speaker to help keep our members up-to-date on the local community\, business hot topics\, statewide information and much more.\n\n \n\nPre-Registration is required\, as we have to get numbers to the caterer in advance.  The deadline to register is 9:00 am on the Monday prior to lunch.
X-ALT-DESC;FMTTYPE=text/html:<h2 style="text-align: center\;"><strong><span style="font-size:28px\;">June 2023 Membership Luncheon</span></strong></h2>\n&nbsp\;\n\n<div style="text-align: center\;">&nbsp\;</div>\n<br />\n<span style="font-size:16px\;"><span style="font-family:verdana\;">Please join us for our June Membership Luncheon presented by Nikki Brooker at Fogo De Chao Park Meadows.&nbsp\;<strong> This luncheon will focus on the Male and Female Brain:&nbsp\; What&#39\;s the Difference?<br />\nWe will be learning on how this can be applied in BUSINESS\, SALES AND PARENTING!</strong>&nbsp\; Nikki Brooker\, published author\, founder of YANA and Nikki Brooker Photography did her masters thesis and researched this topic for 18 months.&nbsp\; The science behind it will fascinate you and give you information that could change the way you communicate and work with others.&nbsp\;&nbsp\;</span><br />\n<br />\n<span style="font-family:verdana\;">Our member luncheons offer great networking\, an opportunity to make with new business connections and catch up with other.&nbsp\; Each luncheon has a different guest speaker to help keep our members up-to-date on the local community\, business hot topics\, statewide information and much more.</span><br />\n&nbsp\;<br />\n<span style="font-family:verdana\;">Pre-Registration is <u>required\,</u> as we have to get numbers to the caterer in advance.&nbsp\; The deadline to register is 9:00 am on the Monday prior to lunch.&nbsp\;</span></span><br />\n<br />\n&nbsp\;
LOCATION:Fogo De Chao Park Meadows
UID:e.7785.21352
SEQUENCE:3
DTSTAMP:20260422T060821Z
URL:https://members.douglascountychamber.org/events/details/membership-luncheon-june-2023-21352
END:VEVENT

END:VCALENDAR
