BEGIN:VCALENDAR
VERSION:2.0
PRODID:-//ChamberMaster//Event Calendar 2.0//EN
METHOD:PUBLISH
X-PUBLISHED-TTL:P3D
REFRESH-INTERVAL:P3D
CALSCALE:GREGORIAN
BEGIN:VEVENT
DTSTART:20230120T180000Z
DTEND:20230120T190000Z
X-MICROSOFT-CDO-ALLDAYEVENT:FALSE
SUMMARY:Meadows Behavioral Health Outpatient Center Ribbon Cutting
DESCRIPTION:Join the community as we welcome the Meadows Behavioral Health Outpatient Center to our NWDC Chamber and EDC!  Catering by Connie Lamb with Bringing The Bites AND Sugar Mama Brownies!
X-ALT-DESC;FMTTYPE=text/html:<span style="font-size:22px\;"><strong>Join the community as we welcome the Meadows Behavioral Health Outpatient Center to our NWDC Chamber and EDC!&nbsp\; Catering by Connie Lamb with Bringing The Bites AND Sugar Mama Brownies!&nbsp\;&nbsp\;</strong></span>
LOCATION:11AM\, Ribbon Cutting at 11:30AM Location: 4700 S Syracuse St.\, #100\, Denver
UID:e.7785.21262
SEQUENCE:3
DTSTAMP:20260422T132608Z
URL:https://members.douglascountychamber.org/events/details/meadows-behavioral-health-outpatient-center-ribbon-cutting-21262
END:VEVENT

END:VCALENDAR
