BEGIN:VCALENDAR
VERSION:2.0
PRODID:-//ChamberMaster//Event Calendar 2.0//EN
METHOD:PUBLISH
X-PUBLISHED-TTL:P3D
REFRESH-INTERVAL:P3D
CALSCALE:GREGORIAN
BEGIN:VEVENT
DTSTART;VALUE=DATE:20230204
DTEND;VALUE=DATE:20230205
TRANSP:TRANSPARENT
X-MICROSOFT-CDO-ALLDAYEVENT:TRUE
SUMMARY:Mamas & Mimosas
DESCRIPTION:Dr. Kimberly Starr would like to invite you to a free community event geared toward women to be able to relax\, have an afternoon with their girlfriends\, do some yoga\, get pampered with leg massages\, drink mimosas\, eat from a few different female vendors\, meet other local female business owners to network with who will be selling things or giving items out\, and to simply have fun!
X-ALT-DESC;FMTTYPE=text/html:Dr. Kimberly Starr would like to invite you to a free community event geared toward women to be able to relax\, have an afternoon with their girlfriends\, do some yoga\, get pampered with leg massages\, drink mimosas\, eat from a few different female vendors\, meet other local female business owners to network with who will be selling things or giving items out\, and to simply have fun!&nbsp\;
LOCATION:Navigate health chiropractic 200 W County Line Rd\, Suite 310 Highlands Ranch\, CO 80129
UID:e.7785.21274
SEQUENCE:3
DTSTAMP:20260422T132113Z
URL:https://members.douglascountychamber.org/events/details/mamas-mimosas-21274
END:VEVENT

END:VCALENDAR
