BEGIN:VCALENDAR
VERSION:2.0
PRODID:-//ChamberMaster//Event Calendar 2.0//EN
METHOD:PUBLISH
X-PUBLISHED-TTL:P3D
REFRESH-INTERVAL:P3D
CALSCALE:GREGORIAN
BEGIN:VEVENT
DTSTART:20221116T003000Z
DTEND:20221116T040000Z
X-MICROSOFT-CDO-ALLDAYEVENT:FALSE
SUMMARY:MAMA Bunco Night
DESCRIPTION:Join us for an evening of fun\, snacks & connecting with other mams (no need to know how to play)!  \n\n\n\nPlease register in advance!  Snacks\, 1 drink ticket and prizes for $20!\n\n\n\n\n\nFor tickets go HERE
X-ALT-DESC;FMTTYPE=text/html:Join us for an evening of fun\, snacks &amp\; connecting with other mams (no need to know how to play)!&nbsp\;&nbsp\;<br />\n<br />\nPlease register in advance!&nbsp\; Snacks\, 1 drink ticket and prizes for $20!<br />\n<br />\n<br />\nFor tickets go <a href="https://www.eventbrite.com/e/mama-bunco-tickets-443620700457">HERE&nbsp\;</a>
LOCATION:Kids Wonder 7562 South University Boulevard Suite GG\, Centennial\, CO 80122
UID:e.7785.21248
SEQUENCE:3
DTSTAMP:20260422T175315Z
URL:https://members.douglascountychamber.org/events/details/mama-bunco-night-21248
END:VEVENT

END:VCALENDAR
