BEGIN:VCALENDAR
VERSION:2.0
PRODID:-//ChamberMaster//Event Calendar 2.0//EN
METHOD:PUBLISH
X-PUBLISHED-TTL:P3D
REFRESH-INTERVAL:P3D
CALSCALE:GREGORIAN
BEGIN:VEVENT
DTSTART:20250522T173000Z
DTEND:20250522T190000Z
X-MICROSOFT-CDO-ALLDAYEVENT:FALSE
SUMMARY:Lunch & Learn: Your Digital Footprint
DESCRIPTION:Join us for our monthly Lunch & Learn hosted by the Douglas County EDC. This month's presenter is the Jay Greiger\, TeamLogic IT\, who will be presenting on "Your Digital Footprint"\, taking place at The Club at Ravenna.
X-ALT-DESC;FMTTYPE=text/html:Join us for our monthly Lunch &amp\; Learn hosted by the Douglas County EDC. This month&#39\;s presenter is the Jay Greiger\, TeamLogic IT\, who will be presenting on &quot\;Your Digital Footprint&quot\;\, taking place at The Club at Ravenna.&nbsp\;
LOCATION:8285 Dante Dr\, Littleton\, CO 80125
UID:e.7785.21603
SEQUENCE:3
DTSTAMP:20260420T130222Z
URL:https://members.douglascountychamber.org/events/details/lunch-learn-your-digital-footprint-21603
END:VEVENT

END:VCALENDAR
